BEGIN:VCALENDAR
VERSION:2.0
PRODID:-//Victoria Park Primary School - ECPv6.15.16.1//NONSGML v1.0//EN
CALSCALE:GREGORIAN
METHOD:PUBLISH
X-ORIGINAL-URL:https://vicparkps.wa.edu.au
X-WR-CALDESC:Events for Victoria Park Primary School
REFRESH-INTERVAL;VALUE=DURATION:PT1H
X-Robots-Tag:noindex
X-PUBLISHED-TTL:PT1H
BEGIN:VTIMEZONE
TZID:Australia/Perth
BEGIN:STANDARD
TZOFFSETFROM:+0800
TZOFFSETTO:+0800
TZNAME:AWST
DTSTART:20230101T000000
END:STANDARD
END:VTIMEZONE
BEGIN:VEVENT
DTSTART;VALUE=DATE:20240313
DTEND;VALUE=DATE:20240326
DTSTAMP:20260425T094250
CREATED:20240223T063358Z
LAST-MODIFIED:20240223T063409Z
UID:2903-1710288000-1711411199@vicparkps.wa.edu.au
SUMMARY:NAPLAN
DESCRIPTION:
URL:https://vicparkps.wa.edu.au/calendar/naplan/
CATEGORIES:Activities & Events
END:VEVENT
BEGIN:VEVENT
DTSTART;VALUE=DATE:20240320
DTEND;VALUE=DATE:20240321
DTSTAMP:20260425T094250
CREATED:20240223T063528Z
LAST-MODIFIED:20240223T063528Z
UID:2907-1710892800-1710979199@vicparkps.wa.edu.au
SUMMARY:Year 6 Leadership Excursion
DESCRIPTION:
URL:https://vicparkps.wa.edu.au/calendar/year-6-leadership-excursion/
CATEGORIES:Activities & Events
END:VEVENT
BEGIN:VEVENT
DTSTART;TZID=Australia/Perth:20240320T083000
DTEND;TZID=Australia/Perth:20240320T085000
DTSTAMP:20260425T094250
CREATED:20240312T033819Z
LAST-MODIFIED:20240312T033819Z
UID:2955-1710923400-1710924600@vicparkps.wa.edu.au
SUMMARY:Easter Raffle - Tickets on Sale
DESCRIPTION:
URL:https://vicparkps.wa.edu.au/calendar/easter-raffle-tickets-on-sale-3/
CATEGORIES:Activities & Events
END:VEVENT
END:VCALENDAR