BEGIN:VCALENDAR
VERSION:2.0
PRODID:-//Victoria Park Primary School - ECPv6.15.16.1//NONSGML v1.0//EN
CALSCALE:GREGORIAN
METHOD:PUBLISH
X-WR-CALNAME:Victoria Park Primary School
X-ORIGINAL-URL:https://vicparkps.wa.edu.au
X-WR-CALDESC:Events for Victoria Park Primary School
REFRESH-INTERVAL;VALUE=DURATION:PT1H
X-Robots-Tag:noindex
X-PUBLISHED-TTL:PT1H
BEGIN:VTIMEZONE
TZID:Australia/Perth
BEGIN:STANDARD
TZOFFSETFROM:+0800
TZOFFSETTO:+0800
TZNAME:AWST
DTSTART:20230101T000000
END:STANDARD
END:VTIMEZONE
BEGIN:VEVENT
DTSTART;TZID=Australia/Perth:20240504T153000
DTEND;TZID=Australia/Perth:20240505T100000
DTSTAMP:20260425T062044
CREATED:20240419T015206Z
LAST-MODIFIED:20240419T015206Z
UID:3268-1714836600-1714903200@vicparkps.wa.edu.au
SUMMARY:Dads\, father figures and kids camp out
DESCRIPTION:
URL:https://vicparkps.wa.edu.au/calendar/dads-father-figures-and-kids-camp-out/
CATEGORIES:P&C and School Board
END:VEVENT
END:VCALENDAR