BEGIN:VCALENDAR
VERSION:2.0
PRODID:-//Victoria Park Primary School - ECPv6.15.16.1//NONSGML v1.0//EN
CALSCALE:GREGORIAN
METHOD:PUBLISH
X-WR-CALNAME:Victoria Park Primary School
X-ORIGINAL-URL:https://vicparkps.wa.edu.au
X-WR-CALDESC:Events for Victoria Park Primary School
REFRESH-INTERVAL;VALUE=DURATION:PT1H
X-Robots-Tag:noindex
X-PUBLISHED-TTL:PT1H
BEGIN:VTIMEZONE
TZID:Australia/Perth
BEGIN:STANDARD
TZOFFSETFROM:+0800
TZOFFSETTO:+0800
TZNAME:AWST
DTSTART:20230101T000000
END:STANDARD
END:VTIMEZONE
BEGIN:VEVENT
DTSTART;VALUE=DATE:20240506
DTEND;VALUE=DATE:20240507
DTSTAMP:20260425T104742
CREATED:20240313T033605Z
LAST-MODIFIED:20240313T033605Z
UID:3027-1714953600-1715039999@vicparkps.wa.edu.au
SUMMARY:Water In Aboriginal Culture (Room 6\, 7\, 8\, 9 & 10)
DESCRIPTION:
URL:https://vicparkps.wa.edu.au/calendar/water-in-aboriginal-culture-room-6-7-8-9-10/
CATEGORIES:Activities & Events
END:VEVENT
END:VCALENDAR