BEGIN:VCALENDAR
VERSION:2.0
PRODID:-//Victoria Park Primary School - ECPv6.15.16.1//NONSGML v1.0//EN
CALSCALE:GREGORIAN
METHOD:PUBLISH
X-ORIGINAL-URL:https://vicparkps.wa.edu.au
X-WR-CALDESC:Events for Victoria Park Primary School
REFRESH-INTERVAL;VALUE=DURATION:PT1H
X-Robots-Tag:noindex
X-PUBLISHED-TTL:PT1H
BEGIN:VTIMEZONE
TZID:Australia/Perth
BEGIN:STANDARD
TZOFFSETFROM:+0800
TZOFFSETTO:+0800
TZNAME:AWST
DTSTART:20230101T000000
END:STANDARD
END:VTIMEZONE
BEGIN:VEVENT
DTSTART;VALUE=DATE:20240606
DTEND;VALUE=DATE:20240607
DTSTAMP:20260424T235707
CREATED:20240418T004002Z
LAST-MODIFIED:20240418T004002Z
UID:3219-1717632000-1717718399@vicparkps.wa.edu.au
SUMMARY:DFES Incursion - Year 3
DESCRIPTION:
URL:https://vicparkps.wa.edu.au/calendar/dfes-incursion-year-3/
CATEGORIES:Activities & Events
END:VEVENT
BEGIN:VEVENT
DTSTART;TZID=Australia/Perth:20240606T073000
DTEND;TZID=Australia/Perth:20240606T084500
DTSTAMP:20260424T235707
CREATED:20240313T041159Z
LAST-MODIFIED:20240313T041159Z
UID:3041-1717659000-1717663500@vicparkps.wa.edu.au
SUMMARY:School Board Meeting
DESCRIPTION:
URL:https://vicparkps.wa.edu.au/calendar/school-board-meeting-4/
CATEGORIES:P&C and School Board
END:VEVENT
END:VCALENDAR