BEGIN:VCALENDAR
VERSION:2.0
PRODID:-//Victoria Park Primary School - ECPv6.15.16.1//NONSGML v1.0//EN
CALSCALE:GREGORIAN
METHOD:PUBLISH
X-WR-CALNAME:Victoria Park Primary School
X-ORIGINAL-URL:https://vicparkps.wa.edu.au
X-WR-CALDESC:Events for Victoria Park Primary School
REFRESH-INTERVAL;VALUE=DURATION:PT1H
X-Robots-Tag:noindex
X-PUBLISHED-TTL:PT1H
BEGIN:VTIMEZONE
TZID:Australia/Perth
BEGIN:STANDARD
TZOFFSETFROM:+0800
TZOFFSETTO:+0800
TZNAME:AWST
DTSTART:20230101T000000
END:STANDARD
END:VTIMEZONE
BEGIN:VEVENT
DTSTART;VALUE=DATE:20240611
DTEND;VALUE=DATE:20240612
DTSTAMP:20260424T222837
CREATED:20240312T041725Z
LAST-MODIFIED:20240312T041725Z
UID:2969-1718064000-1718150399@vicparkps.wa.edu.au
SUMMARY:Newsletter
DESCRIPTION:
URL:https://vicparkps.wa.edu.au/calendar/newsletter-9/
CATEGORIES:Other
END:VEVENT
BEGIN:VEVENT
DTSTART;VALUE=DATE:20240611
DTEND;VALUE=DATE:20240612
DTSTAMP:20260424T222837
CREATED:20240320T063934Z
LAST-MODIFIED:20240510T001824Z
UID:3154-1718064000-1718150399@vicparkps.wa.edu.au
SUMMARY:Cheeseburger Tuesday
DESCRIPTION:
URL:https://vicparkps.wa.edu.au/calendar/hamburger-day/
CATEGORIES:Activities & Events
END:VEVENT
END:VCALENDAR