BEGIN:VCALENDAR
VERSION:2.0
PRODID:-//Victoria Park Primary School - ECPv6.15.16.1//NONSGML v1.0//EN
CALSCALE:GREGORIAN
METHOD:PUBLISH
X-ORIGINAL-URL:https://vicparkps.wa.edu.au
X-WR-CALDESC:Events for Victoria Park Primary School
REFRESH-INTERVAL;VALUE=DURATION:PT1H
X-Robots-Tag:noindex
X-PUBLISHED-TTL:PT1H
BEGIN:VTIMEZONE
TZID:Australia/Perth
BEGIN:STANDARD
TZOFFSETFROM:+0800
TZOFFSETTO:+0800
TZNAME:AWST
DTSTART:20230101T000000
END:STANDARD
END:VTIMEZONE
BEGIN:VEVENT
DTSTART;TZID=Australia/Perth:20240621T085000
DTEND;TZID=Australia/Perth:20240621T093000
DTSTAMP:20260424T235730
CREATED:20240313T023341Z
LAST-MODIFIED:20240313T023341Z
UID:2994-1718959800-1718962200@vicparkps.wa.edu.au
SUMMARY:Assembly - Room 7
DESCRIPTION:
URL:https://vicparkps.wa.edu.au/calendar/assembly-room-7/
CATEGORIES:Activities & Events
END:VEVENT
END:VCALENDAR