BEGIN:VCALENDAR
VERSION:2.0
PRODID:-//Victoria Park Primary School - ECPv6.15.16.1//NONSGML v1.0//EN
CALSCALE:GREGORIAN
METHOD:PUBLISH
X-ORIGINAL-URL:https://vicparkps.wa.edu.au
X-WR-CALDESC:Events for Victoria Park Primary School
REFRESH-INTERVAL;VALUE=DURATION:PT1H
X-Robots-Tag:noindex
X-PUBLISHED-TTL:PT1H
BEGIN:VTIMEZONE
TZID:Australia/Perth
BEGIN:STANDARD
TZOFFSETFROM:+0800
TZOFFSETTO:+0800
TZNAME:AWST
DTSTART:20230101T000000
END:STANDARD
END:VTIMEZONE
BEGIN:VEVENT
DTSTART;VALUE=DATE:20240729
DTEND;VALUE=DATE:20240730
DTSTAMP:20260424T212454
CREATED:20240516T011408Z
LAST-MODIFIED:20240516T011408Z
UID:3307-1722211200-1722297599@vicparkps.wa.edu.au
SUMMARY:Spare Parts' Puppet Theatre Incursion
DESCRIPTION:
URL:https://vicparkps.wa.edu.au/calendar/spare-parts-puppet-theatre-incursion/
CATEGORIES:Activities & Events
END:VEVENT
BEGIN:VEVENT
DTSTART;VALUE=DATE:20240729
DTEND;VALUE=DATE:20240801
DTSTAMP:20260424T212454
CREATED:20240718T043433Z
LAST-MODIFIED:20240718T043433Z
UID:3389-1722211200-1722470399@vicparkps.wa.edu.au
SUMMARY:PEAC Testing
DESCRIPTION:
URL:https://vicparkps.wa.edu.au/calendar/peac-testing/
CATEGORIES:Activities & Events
END:VEVENT
END:VCALENDAR