BEGIN:VCALENDAR
VERSION:2.0
PRODID:-//Victoria Park Primary School - ECPv6.15.16.1//NONSGML v1.0//EN
CALSCALE:GREGORIAN
METHOD:PUBLISH
X-ORIGINAL-URL:https://vicparkps.wa.edu.au
X-WR-CALDESC:Events for Victoria Park Primary School
REFRESH-INTERVAL;VALUE=DURATION:PT1H
X-Robots-Tag:noindex
X-PUBLISHED-TTL:PT1H
BEGIN:VTIMEZONE
TZID:Australia/Perth
BEGIN:STANDARD
TZOFFSETFROM:+0800
TZOFFSETTO:+0800
TZNAME:AWST
DTSTART:20230101T000000
END:STANDARD
END:VTIMEZONE
BEGIN:VEVENT
DTSTART;VALUE=DATE:20240806
DTEND;VALUE=DATE:20240809
DTSTAMP:20260424T212458
CREATED:20240718T044027Z
LAST-MODIFIED:20240718T044027Z
UID:3397-1722902400-1723161599@vicparkps.wa.edu.au
SUMMARY:AMC
DESCRIPTION:
URL:https://vicparkps.wa.edu.au/calendar/amc/
CATEGORIES:Activities & Events
END:VEVENT
BEGIN:VEVENT
DTSTART;TZID=Australia/Perth:20240808T084500
DTEND;TZID=Australia/Perth:20240808T093000
DTSTAMP:20260424T212458
CREATED:20240718T044309Z
LAST-MODIFIED:20240723T032636Z
UID:3399-1723106700-1723109400@vicparkps.wa.edu.au
SUMMARY:Thursday Tea & Talk
DESCRIPTION:
URL:https://vicparkps.wa.edu.au/calendar/thursday-tea-talk-3/
CATEGORIES:Activities & Events
END:VEVENT
END:VCALENDAR