BEGIN:VCALENDAR
VERSION:2.0
PRODID:-//Victoria Park Primary School - ECPv6.15.16.1//NONSGML v1.0//EN
CALSCALE:GREGORIAN
METHOD:PUBLISH
X-ORIGINAL-URL:https://vicparkps.wa.edu.au
X-WR-CALDESC:Events for Victoria Park Primary School
REFRESH-INTERVAL;VALUE=DURATION:PT1H
X-Robots-Tag:noindex
X-PUBLISHED-TTL:PT1H
BEGIN:VTIMEZONE
TZID:Australia/Perth
BEGIN:STANDARD
TZOFFSETFROM:+0800
TZOFFSETTO:+0800
TZNAME:AWST
DTSTART:20230101T000000
END:STANDARD
END:VTIMEZONE
BEGIN:VEVENT
DTSTART;VALUE=DATE:20240812
DTEND;VALUE=DATE:20240817
DTSTAMP:20260424T203022
CREATED:20240718T044528Z
LAST-MODIFIED:20240718T044528Z
UID:3403-1723420800-1723852799@vicparkps.wa.edu.au
SUMMARY:ICAS - English
DESCRIPTION:
URL:https://vicparkps.wa.edu.au/calendar/icas-english/
CATEGORIES:Activities & Events
END:VEVENT
BEGIN:VEVENT
DTSTART;TZID=Australia/Perth:20240814T074500
DTEND;TZID=Australia/Perth:20240814T081500
DTSTAMP:20260424T203022
CREATED:20240619T033401Z
LAST-MODIFIED:20240625T035311Z
UID:3348-1723621500-1723623300@vicparkps.wa.edu.au
SUMMARY:Run Club
DESCRIPTION:
URL:https://vicparkps.wa.edu.au/calendar/run-club-5/
CATEGORIES:Activities & Events
END:VEVENT
END:VCALENDAR