BEGIN:VCALENDAR
VERSION:2.0
PRODID:-//Victoria Park Primary School - ECPv6.15.16.1//NONSGML v1.0//EN
CALSCALE:GREGORIAN
METHOD:PUBLISH
X-WR-CALNAME:Victoria Park Primary School
X-ORIGINAL-URL:https://vicparkps.wa.edu.au
X-WR-CALDESC:Events for Victoria Park Primary School
REFRESH-INTERVAL;VALUE=DURATION:PT1H
X-Robots-Tag:noindex
X-PUBLISHED-TTL:PT1H
BEGIN:VTIMEZONE
TZID:Australia/Perth
BEGIN:STANDARD
TZOFFSETFROM:+0800
TZOFFSETTO:+0800
TZNAME:AWST
DTSTART:20230101T000000
END:STANDARD
END:VTIMEZONE
BEGIN:VEVENT
DTSTART;TZID=Australia/Perth:20240905T073000
DTEND;TZID=Australia/Perth:20240905T084500
DTSTAMP:20260424T192705
CREATED:20240313T060529Z
LAST-MODIFIED:20240313T060529Z
UID:3067-1725521400-1725525900@vicparkps.wa.edu.au
SUMMARY:School Board Meeting
DESCRIPTION:
URL:https://vicparkps.wa.edu.au/calendar/school-board-meeting-6/
CATEGORIES:P&C and School Board
END:VEVENT
BEGIN:VEVENT
DTSTART;TZID=Australia/Perth:20240905T173000
DTEND;TZID=Australia/Perth:20240905T190000
DTSTAMP:20260424T192705
CREATED:20240619T034438Z
LAST-MODIFIED:20240718T043342Z
UID:3364-1725557400-1725562800@vicparkps.wa.edu.au
SUMMARY:Open Night
DESCRIPTION:
URL:https://vicparkps.wa.edu.au/calendar/open-night/
CATEGORIES:Activities & Events
END:VEVENT
END:VCALENDAR