BEGIN:VCALENDAR
VERSION:2.0
PRODID:-//Victoria Park Primary School - ECPv6.15.16.1//NONSGML v1.0//EN
CALSCALE:GREGORIAN
METHOD:PUBLISH
X-ORIGINAL-URL:https://vicparkps.wa.edu.au
X-WR-CALDESC:Events for Victoria Park Primary School
REFRESH-INTERVAL;VALUE=DURATION:PT1H
X-Robots-Tag:noindex
X-PUBLISHED-TTL:PT1H
BEGIN:VTIMEZONE
TZID:Australia/Perth
BEGIN:STANDARD
TZOFFSETFROM:+0800
TZOFFSETTO:+0800
TZNAME:AWST
DTSTART:20230101T000000
END:STANDARD
END:VTIMEZONE
BEGIN:VEVENT
DTSTART;VALUE=DATE:20240909
DTEND;VALUE=DATE:20240910
DTSTAMP:20260424T181811
CREATED:20240620T034724Z
LAST-MODIFIED:20240620T034724Z
UID:3371-1725840000-1725926399@vicparkps.wa.edu.au
SUMMARY:Constable Care Incursion Year 5-6
DESCRIPTION:
URL:https://vicparkps.wa.edu.au/calendar/constable-care-incursion-year-5-6/
CATEGORIES:Activities & Events
END:VEVENT
BEGIN:VEVENT
DTSTART;VALUE=DATE:20240909
DTEND;VALUE=DATE:20240910
DTSTAMP:20260424T181811
CREATED:20240718T045330Z
LAST-MODIFIED:20240718T045330Z
UID:3411-1725840000-1725926399@vicparkps.wa.edu.au
SUMMARY:Constable Care Incursion (Year 5 & 6)
DESCRIPTION:
URL:https://vicparkps.wa.edu.au/calendar/constable-care-incursion-year-5-6-2/
CATEGORIES:Activities & Events
END:VEVENT
END:VCALENDAR