BEGIN:VCALENDAR
VERSION:2.0
PRODID:-//Victoria Park Primary School - ECPv6.15.16.1//NONSGML v1.0//EN
CALSCALE:GREGORIAN
METHOD:PUBLISH
X-ORIGINAL-URL:https://vicparkps.wa.edu.au
X-WR-CALDESC:Events for Victoria Park Primary School
REFRESH-INTERVAL;VALUE=DURATION:PT1H
X-Robots-Tag:noindex
X-PUBLISHED-TTL:PT1H
BEGIN:VTIMEZONE
TZID:Australia/Perth
BEGIN:STANDARD
TZOFFSETFROM:+0800
TZOFFSETTO:+0800
TZNAME:AWST
DTSTART:20230101T000000
END:STANDARD
END:VTIMEZONE
BEGIN:VEVENT
DTSTART;VALUE=DATE:20240910
DTEND;VALUE=DATE:20240911
DTSTAMP:20260424T180635
CREATED:20240313T055047Z
LAST-MODIFIED:20240313T055047Z
UID:3057-1725926400-1726012799@vicparkps.wa.edu.au
SUMMARY:Newsletter
DESCRIPTION:
URL:https://vicparkps.wa.edu.au/calendar/newsletter-15/
CATEGORIES:Other
END:VEVENT
BEGIN:VEVENT
DTSTART;VALUE=DATE:20240910
DTEND;VALUE=DATE:20240911
DTSTAMP:20260424T180635
CREATED:20240313T060621Z
LAST-MODIFIED:20240313T060621Z
UID:3069-1725926400-1726012799@vicparkps.wa.edu.au
SUMMARY:Interschool Jumps\, Throws & 400m
DESCRIPTION:
URL:https://vicparkps.wa.edu.au/calendar/interschool-jumps-throws-400m/
CATEGORIES:Activities & Events
END:VEVENT
BEGIN:VEVENT
DTSTART;TZID=Australia/Perth:20240910T111500
DTEND;TZID=Australia/Perth:20240910T111500
DTSTAMP:20260424T180635
CREATED:20240313T062205Z
LAST-MODIFIED:20240313T062205Z
UID:3071-1725966900-1725966900@vicparkps.wa.edu.au
SUMMARY:MCF Choir Rehearsal - Churchland SHS
DESCRIPTION:
URL:https://vicparkps.wa.edu.au/calendar/mcf-choir-rehearsal-churchland-shs/
CATEGORIES:Activities & Events
END:VEVENT
END:VCALENDAR