BEGIN:VCALENDAR
VERSION:2.0
PRODID:-//Victoria Park Primary School - ECPv6.15.16.1//NONSGML v1.0//EN
CALSCALE:GREGORIAN
METHOD:PUBLISH
X-WR-CALNAME:Victoria Park Primary School
X-ORIGINAL-URL:https://vicparkps.wa.edu.au
X-WR-CALDESC:Events for Victoria Park Primary School
REFRESH-INTERVAL;VALUE=DURATION:PT1H
X-Robots-Tag:noindex
X-PUBLISHED-TTL:PT1H
BEGIN:VTIMEZONE
TZID:Australia/Perth
BEGIN:STANDARD
TZOFFSETFROM:+0800
TZOFFSETTO:+0800
TZNAME:AWST
DTSTART:20230101T000000
END:STANDARD
END:VTIMEZONE
BEGIN:VEVENT
DTSTART;VALUE=DATE:20241016
DTEND;VALUE=DATE:20241017
DTSTAMP:20260424T160011
CREATED:20240809T034850Z
LAST-MODIFIED:20240809T034850Z
UID:3440-1729036800-1729123199@vicparkps.wa.edu.au
SUMMARY:Social Dance Yr 5 & 6
DESCRIPTION:
URL:https://vicparkps.wa.edu.au/calendar/social-dance-yr-5-6-2/
CATEGORIES:Activities & Events
END:VEVENT
BEGIN:VEVENT
DTSTART;TZID=Australia/Perth:20241016T071500
DTEND;TZID=Australia/Perth:20241016T081500
DTSTAMP:20260424T160012
CREATED:20241016T025857Z
LAST-MODIFIED:20241016T025857Z
UID:3469-1729062900-1729066500@vicparkps.wa.edu.au
SUMMARY:Run Club
DESCRIPTION:
URL:https://vicparkps.wa.edu.au/calendar/run-club-12/
CATEGORIES:Activities & Events
END:VEVENT
END:VCALENDAR