BEGIN:VCALENDAR
VERSION:2.0
PRODID:-//Victoria Park Primary School - ECPv6.15.16.1//NONSGML v1.0//EN
CALSCALE:GREGORIAN
METHOD:PUBLISH
X-ORIGINAL-URL:https://vicparkps.wa.edu.au
X-WR-CALDESC:Events for Victoria Park Primary School
REFRESH-INTERVAL;VALUE=DURATION:PT1H
X-Robots-Tag:noindex
X-PUBLISHED-TTL:PT1H
BEGIN:VTIMEZONE
TZID:Australia/Perth
BEGIN:STANDARD
TZOFFSETFROM:+0800
TZOFFSETTO:+0800
TZNAME:AWST
DTSTART:20230101T000000
END:STANDARD
END:VTIMEZONE
BEGIN:VEVENT
DTSTART;VALUE=DATE:20241104
DTEND;VALUE=DATE:20241116
DTSTAMP:20260422T092658
CREATED:20240318T000606Z
LAST-MODIFIED:20240318T000606Z
UID:3134-1730678400-1731715199@vicparkps.wa.edu.au
SUMMARY:Year 1 - 6 Swimming Lessons
DESCRIPTION:
URL:https://vicparkps.wa.edu.au/calendar/year-1-6-swimming-lessons/
CATEGORIES:Activities & Events
END:VEVENT
BEGIN:VEVENT
DTSTART;VALUE=DATE:20241111
DTEND;VALUE=DATE:20241112
DTSTAMP:20260422T092658
CREATED:20241016T035155Z
LAST-MODIFIED:20241101T024852Z
UID:3494-1731283200-1731369599@vicparkps.wa.edu.au
SUMMARY:Remembrance Day
DESCRIPTION:
URL:https://vicparkps.wa.edu.au/calendar/remembrance-day/
CATEGORIES:Term Dates & Public Holidays
END:VEVENT
BEGIN:VEVENT
DTSTART;TZID=Australia/Perth:20241111T091500
DTEND;TZID=Australia/Perth:20241111T113000
DTSTAMP:20260422T092658
CREATED:20241016T035337Z
LAST-MODIFIED:20241016T035337Z
UID:3496-1731316500-1731324600@vicparkps.wa.edu.au
SUMMARY:Junior & Senior Choir at Town of Vic Park Ceremony
DESCRIPTION:
URL:https://vicparkps.wa.edu.au/calendar/junior-senior-choir-at-town-of-vic-park-ceremony/
CATEGORIES:Activities & Events
END:VEVENT
END:VCALENDAR