BEGIN:VCALENDAR
VERSION:2.0
PRODID:-//Victoria Park Primary School - ECPv6.15.16.1//NONSGML v1.0//EN
CALSCALE:GREGORIAN
METHOD:PUBLISH
X-ORIGINAL-URL:https://vicparkps.wa.edu.au
X-WR-CALDESC:Events for Victoria Park Primary School
REFRESH-INTERVAL;VALUE=DURATION:PT1H
X-Robots-Tag:noindex
X-PUBLISHED-TTL:PT1H
BEGIN:VTIMEZONE
TZID:Australia/Perth
BEGIN:STANDARD
TZOFFSETFROM:+0800
TZOFFSETTO:+0800
TZNAME:AWST
DTSTART:20240101T000000
END:STANDARD
END:VTIMEZONE
BEGIN:VEVENT
DTSTART;VALUE=DATE:20250905
DTEND;VALUE=DATE:20250906
DTSTAMP:20260422T093833
CREATED:20250724T023310Z
LAST-MODIFIED:20250724T023310Z
UID:3755-1757030400-1757116799@vicparkps.wa.edu.au
SUMMARY:ECE Father's Day Breakfast
DESCRIPTION:
URL:https://vicparkps.wa.edu.au/calendar/ece-fathers-day-breakfast/
CATEGORIES:Activities & Events
END:VEVENT
BEGIN:VEVENT
DTSTART;TZID=Australia/Perth:20250905T085000
DTEND;TZID=Australia/Perth:20250905T093000
DTSTAMP:20260422T093833
CREATED:20250724T023350Z
LAST-MODIFIED:20250724T023350Z
UID:3757-1757062200-1757064600@vicparkps.wa.edu.au
SUMMARY:Assembly - Room 4
DESCRIPTION:
URL:https://vicparkps.wa.edu.au/calendar/assembly-room-4-2/
CATEGORIES:Activities & Events
END:VEVENT
END:VCALENDAR