BEGIN:VCALENDAR
VERSION:2.0
PRODID:-//Victoria Park Primary School - ECPv6.15.16.1//NONSGML v1.0//EN
CALSCALE:GREGORIAN
METHOD:PUBLISH
X-ORIGINAL-URL:https://vicparkps.wa.edu.au
X-WR-CALDESC:Events for Victoria Park Primary School
REFRESH-INTERVAL;VALUE=DURATION:PT1H
X-Robots-Tag:noindex
X-PUBLISHED-TTL:PT1H
BEGIN:VTIMEZONE
TZID:Australia/Perth
BEGIN:STANDARD
TZOFFSETFROM:+0800
TZOFFSETTO:+0800
TZNAME:AWST
DTSTART:20240101T000000
END:STANDARD
END:VTIMEZONE
BEGIN:VEVENT
DTSTART;VALUE=DATE:20250916
DTEND;VALUE=DATE:20250917
DTSTAMP:20260423T181456
CREATED:20250724T023853Z
LAST-MODIFIED:20250724T023853Z
UID:3765-1757980800-1758067199@vicparkps.wa.edu.au
SUMMARY:Interschool Jumps & Throws
DESCRIPTION:
URL:https://vicparkps.wa.edu.au/calendar/interschool-jumps-throws/
CATEGORIES:Activities & Events
END:VEVENT
END:VCALENDAR