BEGIN:VCALENDAR
VERSION:2.0
PRODID:-//Victoria Park Primary School - ECPv6.15.16.1//NONSGML v1.0//EN
CALSCALE:GREGORIAN
METHOD:PUBLISH
X-ORIGINAL-URL:https://vicparkps.wa.edu.au
X-WR-CALDESC:Events for Victoria Park Primary School
REFRESH-INTERVAL;VALUE=DURATION:PT1H
X-Robots-Tag:noindex
X-PUBLISHED-TTL:PT1H
BEGIN:VTIMEZONE
TZID:Australia/Perth
BEGIN:STANDARD
TZOFFSETFROM:+0800
TZOFFSETTO:+0800
TZNAME:AWST
DTSTART:20240101T000000
END:STANDARD
END:VTIMEZONE
BEGIN:VEVENT
DTSTART;VALUE=DATE:20250923
DTEND;VALUE=DATE:20250924
DTSTAMP:20260417T175514
CREATED:20250724T024313Z
LAST-MODIFIED:20250724T024313Z
UID:3775-1758585600-1758671999@vicparkps.wa.edu.au
SUMMARY:K - Yr6 St John Ambulance Incursion
DESCRIPTION:
URL:https://vicparkps.wa.edu.au/calendar/k-yr6-st-john-ambulance-incursion-2/
CATEGORIES:Activities & Events
END:VEVENT
BEGIN:VEVENT
DTSTART;VALUE=DATE:20250923
DTEND;VALUE=DATE:20250924
DTSTAMP:20260417T175514
CREATED:20250724T024737Z
LAST-MODIFIED:20250724T024737Z
UID:3787-1758585600-1758671999@vicparkps.wa.edu.au
SUMMARY:MCF Rehearsal @ HPC Claremont
DESCRIPTION:
URL:https://vicparkps.wa.edu.au/calendar/mcf-rehearsal-hpc-claremont/
CATEGORIES:Activities & Events
END:VEVENT
END:VCALENDAR