BEGIN:VCALENDAR
VERSION:2.0
PRODID:-//Victoria Park Primary School - ECPv6.15.16.1//NONSGML v1.0//EN
CALSCALE:GREGORIAN
METHOD:PUBLISH
X-ORIGINAL-URL:https://vicparkps.wa.edu.au
X-WR-CALDESC:Events for Victoria Park Primary School
REFRESH-INTERVAL;VALUE=DURATION:PT1H
X-Robots-Tag:noindex
X-PUBLISHED-TTL:PT1H
BEGIN:VTIMEZONE
TZID:Australia/Perth
BEGIN:STANDARD
TZOFFSETFROM:+0800
TZOFFSETTO:+0800
TZNAME:AWST
DTSTART:20240101T000000
END:STANDARD
END:VTIMEZONE
BEGIN:VEVENT
DTSTART;VALUE=DATE:20251118
DTEND;VALUE=DATE:20251119
DTSTAMP:20260423T105145
CREATED:20251014T025032Z
LAST-MODIFIED:20251014T025032Z
UID:3910-1763424000-1763510399@vicparkps.wa.edu.au
SUMMARY:Yr6 Cake Stall
DESCRIPTION:
URL:https://vicparkps.wa.edu.au/calendar/yr6-cake-stall/
CATEGORIES:Activities & Events
END:VEVENT
BEGIN:VEVENT
DTSTART;VALUE=DATE:20251118
DTEND;VALUE=DATE:20251119
DTSTAMP:20260423T105145
CREATED:20251016T040505Z
LAST-MODIFIED:20251016T040505Z
UID:3943-1763424000-1763510399@vicparkps.wa.edu.au
SUMMARY:Newsletter
DESCRIPTION:
URL:https://vicparkps.wa.edu.au/calendar/newsletter-23/
CATEGORIES:Activities & Events
END:VEVENT
END:VCALENDAR