BEGIN:VCALENDAR
VERSION:2.0
PRODID:-//Victoria Park Primary School - ECPv6.15.16.1//NONSGML v1.0//EN
CALSCALE:GREGORIAN
METHOD:PUBLISH
X-WR-CALNAME:Victoria Park Primary School
X-ORIGINAL-URL:https://vicparkps.wa.edu.au
X-WR-CALDESC:Events for Victoria Park Primary School
REFRESH-INTERVAL;VALUE=DURATION:PT1H
X-Robots-Tag:noindex
X-PUBLISHED-TTL:PT1H
BEGIN:VTIMEZONE
TZID:Australia/Perth
BEGIN:STANDARD
TZOFFSETFROM:+0800
TZOFFSETTO:+0800
TZNAME:AWST
DTSTART:20240101T000000
END:STANDARD
END:VTIMEZONE
BEGIN:VEVENT
DTSTART;VALUE=DATE:20251124
DTEND;VALUE=DATE:20251129
DTSTAMP:20260423T105610
CREATED:20250724T034136Z
LAST-MODIFIED:20250724T034136Z
UID:3824-1763942400-1764374399@vicparkps.wa.edu.au
SUMMARY:Swimming Lessons PP - Yr6
DESCRIPTION:
URL:https://vicparkps.wa.edu.au/calendar/swimming-lessons-pp-yr6/
CATEGORIES:Activities & Events
END:VEVENT
BEGIN:VEVENT
DTSTART;TZID=Australia/Perth:20251128T085000
DTEND;TZID=Australia/Perth:20251128T093000
DTSTAMP:20260423T105610
CREATED:20250724T033935Z
LAST-MODIFIED:20251113T033122Z
UID:3822-1764319800-1764322200@vicparkps.wa.edu.au
SUMMARY:Assembly - Room 3
DESCRIPTION:Aussie of the Month\nWriter & Artist of the Term
URL:https://vicparkps.wa.edu.au/calendar/assembly-room-3-2/
CATEGORIES:Activities & Events
END:VEVENT
END:VCALENDAR