BEGIN:VCALENDAR
VERSION:2.0
PRODID:-//Victoria Park Primary School - ECPv6.15.16.1//NONSGML v1.0//EN
CALSCALE:GREGORIAN
METHOD:PUBLISH
X-WR-CALNAME:Victoria Park Primary School
X-ORIGINAL-URL:https://vicparkps.wa.edu.au
X-WR-CALDESC:Events for Victoria Park Primary School
REFRESH-INTERVAL;VALUE=DURATION:PT1H
X-Robots-Tag:noindex
X-PUBLISHED-TTL:PT1H
BEGIN:VTIMEZONE
TZID:Australia/Perth
BEGIN:STANDARD
TZOFFSETFROM:+0800
TZOFFSETTO:+0800
TZNAME:AWST
DTSTART:20240101T000000
END:STANDARD
END:VTIMEZONE
BEGIN:VEVENT
DTSTART;VALUE=DATE:20251201
DTEND;VALUE=DATE:20251206
DTSTAMP:20260423T093622
CREATED:20250724T034255Z
LAST-MODIFIED:20250724T034255Z
UID:3826-1764547200-1764979199@vicparkps.wa.edu.au
SUMMARY:Swimming Lessons PP - Yr6
DESCRIPTION:
URL:https://vicparkps.wa.edu.au/calendar/swimming-lessons-pp-yr6-2/
CATEGORIES:Activities & Events
END:VEVENT
BEGIN:VEVENT
DTSTART;TZID=Australia/Perth:20251204T073000
DTEND;TZID=Australia/Perth:20251204T083000
DTSTAMP:20260423T093622
CREATED:20250724T034421Z
LAST-MODIFIED:20250724T034421Z
UID:3830-1764833400-1764837000@vicparkps.wa.edu.au
SUMMARY:School Board Meeting
DESCRIPTION:
URL:https://vicparkps.wa.edu.au/calendar/school-board-meeting-12/
CATEGORIES:P&C and School Board
END:VEVENT
END:VCALENDAR