BEGIN:VCALENDAR
VERSION:2.0
PRODID:-//Victoria Park Primary School - ECPv6.15.16.1//NONSGML v1.0//EN
CALSCALE:GREGORIAN
METHOD:PUBLISH
X-WR-CALNAME:Victoria Park Primary School
X-ORIGINAL-URL:https://vicparkps.wa.edu.au
X-WR-CALDESC:Events for Victoria Park Primary School
REFRESH-INTERVAL;VALUE=DURATION:PT1H
X-Robots-Tag:noindex
X-PUBLISHED-TTL:PT1H
BEGIN:VTIMEZONE
TZID:Australia/Perth
BEGIN:STANDARD
TZOFFSETFROM:+0800
TZOFFSETTO:+0800
TZNAME:AWST
DTSTART:20250101T000000
END:STANDARD
END:VTIMEZONE
BEGIN:VEVENT
DTSTART;VALUE=DATE:20260311
DTEND;VALUE=DATE:20260314
DTSTAMP:20260423T031633
CREATED:20251104T022528Z
LAST-MODIFIED:20251104T022528Z
UID:3987-1773187200-1773446399@vicparkps.wa.edu.au
SUMMARY:NAPLAN
DESCRIPTION:
URL:https://vicparkps.wa.edu.au/calendar/naplan-2/
CATEGORIES:Other
END:VEVENT
BEGIN:VEVENT
DTSTART;VALUE=DATE:20260312
DTEND;VALUE=DATE:20260313
DTSTAMP:20260423T031633
CREATED:20251110T053500Z
LAST-MODIFIED:20251110T053500Z
UID:4138-1773273600-1773359999@vicparkps.wa.edu.au
SUMMARY:Run Club
DESCRIPTION:
URL:https://vicparkps.wa.edu.au/calendar/run-club-17/
CATEGORIES:Activities & Events
END:VEVENT
BEGIN:VEVENT
DTSTART;TZID=Australia/Perth:20260312T152000
DTEND;TZID=Australia/Perth:20260312T162000
DTSTAMP:20260423T031633
CREATED:20251217T060645Z
LAST-MODIFIED:20251217T060645Z
UID:4287-1773328800-1773332400@vicparkps.wa.edu.au
SUMMARY:Afterschool Soccer Program
DESCRIPTION:
URL:https://vicparkps.wa.edu.au/calendar/afterschool-soccer-program-5/
CATEGORIES:Activities & Events
END:VEVENT
END:VCALENDAR