BEGIN:VCALENDAR
VERSION:2.0
PRODID:-//Victoria Park Primary School - ECPv6.15.16.1//NONSGML v1.0//EN
CALSCALE:GREGORIAN
METHOD:PUBLISH
X-WR-CALNAME:Victoria Park Primary School
X-ORIGINAL-URL:https://vicparkps.wa.edu.au
X-WR-CALDESC:Events for Victoria Park Primary School
REFRESH-INTERVAL;VALUE=DURATION:PT1H
X-Robots-Tag:noindex
X-PUBLISHED-TTL:PT1H
BEGIN:VTIMEZONE
TZID:Australia/Perth
BEGIN:STANDARD
TZOFFSETFROM:+0800
TZOFFSETTO:+0800
TZNAME:AWST
DTSTART:20250101T000000
END:STANDARD
END:VTIMEZONE
BEGIN:VEVENT
DTSTART;VALUE=DATE:20260629
DTEND;VALUE=DATE:20260704
DTSTAMP:20260423T074944
CREATED:20251104T022422Z
LAST-MODIFIED:20251210T020758Z
UID:3985-1782691200-1783123199@vicparkps.wa.edu.au
SUMMARY:Swimming Lessons Year 3-6
DESCRIPTION:
URL:https://vicparkps.wa.edu.au/calendar/swimming-lessons-pp-year-6/
CATEGORIES:Activities & Events
END:VEVENT
BEGIN:VEVENT
DTSTART;VALUE=DATE:20260703
DTEND;VALUE=DATE:20260704
DTSTAMP:20260423T074944
CREATED:20251104T024225Z
LAST-MODIFIED:20251104T024225Z
UID:4040-1783036800-1783123199@vicparkps.wa.edu.au
SUMMARY:NAIDOC
DESCRIPTION:
URL:https://vicparkps.wa.edu.au/calendar/naidoc-2/
CATEGORIES:Activities & Events
END:VEVENT
BEGIN:VEVENT
DTSTART;VALUE=DATE:20260703
DTEND;VALUE=DATE:20260704
DTSTAMP:20260423T074944
CREATED:20251104T024455Z
LAST-MODIFIED:20251104T024455Z
UID:4041-1783036800-1783123199@vicparkps.wa.edu.au
SUMMARY:Last Day of Term 2
DESCRIPTION:
URL:https://vicparkps.wa.edu.au/calendar/last-day-of-term-2-2/
CATEGORIES:Term Dates & Public Holidays
END:VEVENT
END:VCALENDAR