BEGIN:VCALENDAR
VERSION:2.0
PRODID:-//Victoria Park Primary School - ECPv6.15.16.1//NONSGML v1.0//EN
CALSCALE:GREGORIAN
METHOD:PUBLISH
X-ORIGINAL-URL:https://vicparkps.wa.edu.au
X-WR-CALDESC:Events for Victoria Park Primary School
REFRESH-INTERVAL;VALUE=DURATION:PT1H
X-Robots-Tag:noindex
X-PUBLISHED-TTL:PT1H
BEGIN:VTIMEZONE
TZID:Australia/Perth
BEGIN:STANDARD
TZOFFSETFROM:+0800
TZOFFSETTO:+0800
TZNAME:AWST
DTSTART:20250101T000000
END:STANDARD
END:VTIMEZONE
BEGIN:VEVENT
DTSTART;VALUE=DATE:20260824
DTEND;VALUE=DATE:20260829
DTSTAMP:20260423T075036
CREATED:20251104T022445Z
LAST-MODIFIED:20251210T020819Z
UID:3986-1787529600-1787961599@vicparkps.wa.edu.au
SUMMARY:Swimming Lessons PP - Year 2
DESCRIPTION:
URL:https://vicparkps.wa.edu.au/calendar/swimming-lessons-pp-year-6-2/
CATEGORIES:Activities & Events
END:VEVENT
END:VCALENDAR