BEGIN:VCALENDAR
VERSION:2.0
PRODID:-//Victoria Park Primary School - ECPv6.15.16.1//NONSGML v1.0//EN
CALSCALE:GREGORIAN
METHOD:PUBLISH
X-ORIGINAL-URL:https://vicparkps.wa.edu.au
X-WR-CALDESC:Events for Victoria Park Primary School
REFRESH-INTERVAL;VALUE=DURATION:PT1H
X-Robots-Tag:noindex
X-PUBLISHED-TTL:PT1H
BEGIN:VTIMEZONE
TZID:Australia/Perth
BEGIN:STANDARD
TZOFFSETFROM:+0800
TZOFFSETTO:+0800
TZNAME:AWST
DTSTART:20250101T000000
END:STANDARD
END:VTIMEZONE
BEGIN:VEVENT
DTSTART;VALUE=DATE:20260908
DTEND;VALUE=DATE:20260909
DTSTAMP:20260423T113149
CREATED:20251104T025031Z
LAST-MODIFIED:20251104T025031Z
UID:4058-1788825600-1788911999@vicparkps.wa.edu.au
SUMMARY:Newsletter
DESCRIPTION:
URL:https://vicparkps.wa.edu.au/calendar/newsletter-38/
CATEGORIES:Other
END:VEVENT
BEGIN:VEVENT
DTSTART;VALUE=DATE:20260908
DTEND;VALUE=DATE:20260909
DTSTAMP:20260423T113149
CREATED:20251104T025332Z
LAST-MODIFIED:20251104T025417Z
UID:4069-1788825600-1788911999@vicparkps.wa.edu.au
SUMMARY:Parent Teacher Interviews - 1/2 Day Closure
DESCRIPTION:
URL:https://vicparkps.wa.edu.au/calendar/parent-teacher-interviews-1-2-day-closure-2/
CATEGORIES:Other
END:VEVENT
END:VCALENDAR