BEGIN:VCALENDAR
VERSION:2.0
PRODID:-//Victoria Park Primary School - ECPv6.15.16.1//NONSGML v1.0//EN
CALSCALE:GREGORIAN
METHOD:PUBLISH
X-ORIGINAL-URL:https://vicparkps.wa.edu.au
X-WR-CALDESC:Events for Victoria Park Primary School
REFRESH-INTERVAL;VALUE=DURATION:PT1H
X-Robots-Tag:noindex
X-PUBLISHED-TTL:PT1H
BEGIN:VTIMEZONE
TZID:Australia/Perth
BEGIN:STANDARD
TZOFFSETFROM:+0800
TZOFFSETTO:+0800
TZNAME:AWST
DTSTART:20250101T000000
END:STANDARD
END:VTIMEZONE
BEGIN:VEVENT
DTSTART;VALUE=DATE:20261117
DTEND;VALUE=DATE:20261118
DTSTAMP:20260423T152736
CREATED:20251104T030307Z
LAST-MODIFIED:20251104T030307Z
UID:4083-1794873600-1794959999@vicparkps.wa.edu.au
SUMMARY:Newsletter
DESCRIPTION:
URL:https://vicparkps.wa.edu.au/calendar/newsletter-42/
CATEGORIES:Other
END:VEVENT
END:VCALENDAR