BEGIN:VCALENDAR
VERSION:2.0
PRODID:-//Victoria Park Primary School - ECPv6.15.16.1//NONSGML v1.0//EN
CALSCALE:GREGORIAN
METHOD:PUBLISH
X-ORIGINAL-URL:https://vicparkps.wa.edu.au
X-WR-CALDESC:Events for Victoria Park Primary School
REFRESH-INTERVAL;VALUE=DURATION:PT1H
X-Robots-Tag:noindex
X-PUBLISHED-TTL:PT1H
BEGIN:VTIMEZONE
TZID:Australia/Perth
BEGIN:STANDARD
TZOFFSETFROM:+0800
TZOFFSETTO:+0800
TZNAME:AWST
DTSTART:20250101T000000
END:STANDARD
END:VTIMEZONE
BEGIN:VEVENT
DTSTART;VALUE=DATE:20260302
DTEND;VALUE=DATE:20260303
DTSTAMP:20260423T045954
CREATED:20251104T022228Z
LAST-MODIFIED:20251104T022228Z
UID:3981-1772409600-1772495999@vicparkps.wa.edu.au
SUMMARY:Labour Day Public Holiday
DESCRIPTION:
URL:https://vicparkps.wa.edu.au/calendar/labour-day-public-holiday-2/
CATEGORIES:Term Dates & Public Holidays
END:VEVENT
BEGIN:VEVENT
DTSTART;VALUE=DATE:20260303
DTEND;VALUE=DATE:20260304
DTSTAMP:20260423T045954
CREATED:20251104T022254Z
LAST-MODIFIED:20251104T022254Z
UID:3983-1772496000-1772582399@vicparkps.wa.edu.au
SUMMARY:School Development Day
DESCRIPTION:
URL:https://vicparkps.wa.edu.au/calendar/school-development-day-7/
CATEGORIES:Term Dates & Public Holidays
END:VEVENT
BEGIN:VEVENT
DTSTART;TZID=Australia/Perth:20260304T070000
DTEND;TZID=Australia/Perth:20260304T080000
DTSTAMP:20260423T045954
CREATED:20251104T021538Z
LAST-MODIFIED:20251217T055834Z
UID:3970-1772607600-1772611200@vicparkps.wa.edu.au
SUMMARY:Swim Squad
DESCRIPTION:
URL:https://vicparkps.wa.edu.au/calendar/swim-squad-6/
CATEGORIES:Activities & Events
END:VEVENT
BEGIN:VEVENT
DTSTART;VALUE=DATE:20260305
DTEND;VALUE=DATE:20260306
DTSTAMP:20260423T045954
CREATED:20251110T053433Z
LAST-MODIFIED:20251110T053433Z
UID:4136-1772668800-1772755199@vicparkps.wa.edu.au
SUMMARY:Run Club
DESCRIPTION:
URL:https://vicparkps.wa.edu.au/calendar/run-club-16/
CATEGORIES:Activities & Events
END:VEVENT
BEGIN:VEVENT
DTSTART;TZID=Australia/Perth:20260305T152000
DTEND;TZID=Australia/Perth:20260305T162000
DTSTAMP:20260423T045954
CREATED:20251217T060629Z
LAST-MODIFIED:20251217T060629Z
UID:4286-1772724000-1772727600@vicparkps.wa.edu.au
SUMMARY:Afterschool Soccer Program
DESCRIPTION:
URL:https://vicparkps.wa.edu.au/calendar/afterschool-soccer-program-4/
CATEGORIES:Activities & Events
END:VEVENT
BEGIN:VEVENT
DTSTART;VALUE=DATE:20260310
DTEND;VALUE=DATE:20260311
DTSTAMP:20260423T045954
CREATED:20251104T021117Z
LAST-MODIFIED:20251104T021117Z
UID:3961-1773100800-1773187199@vicparkps.wa.edu.au
SUMMARY:Newsletter
DESCRIPTION:
URL:https://vicparkps.wa.edu.au/calendar/newsletter-28/
CATEGORIES:Other
END:VEVENT
BEGIN:VEVENT
DTSTART;VALUE=DATE:20260311
DTEND;VALUE=DATE:20260314
DTSTAMP:20260423T045954
CREATED:20251104T022528Z
LAST-MODIFIED:20251104T022528Z
UID:3987-1773187200-1773446399@vicparkps.wa.edu.au
SUMMARY:NAPLAN
DESCRIPTION:
URL:https://vicparkps.wa.edu.au/calendar/naplan-2/
CATEGORIES:Other
END:VEVENT
BEGIN:VEVENT
DTSTART;TZID=Australia/Perth:20260311T070000
DTEND;TZID=Australia/Perth:20260311T080000
DTSTAMP:20260423T045954
CREATED:20251104T021550Z
LAST-MODIFIED:20251217T055841Z
UID:3971-1773212400-1773216000@vicparkps.wa.edu.au
SUMMARY:Swim Squad
DESCRIPTION:
URL:https://vicparkps.wa.edu.au/calendar/swim-squad-7/
CATEGORIES:Activities & Events
END:VEVENT
BEGIN:VEVENT
DTSTART;VALUE=DATE:20260312
DTEND;VALUE=DATE:20260313
DTSTAMP:20260423T045954
CREATED:20251110T053500Z
LAST-MODIFIED:20251110T053500Z
UID:4138-1773273600-1773359999@vicparkps.wa.edu.au
SUMMARY:Run Club
DESCRIPTION:
URL:https://vicparkps.wa.edu.au/calendar/run-club-17/
CATEGORIES:Activities & Events
END:VEVENT
BEGIN:VEVENT
DTSTART;TZID=Australia/Perth:20260312T152000
DTEND;TZID=Australia/Perth:20260312T162000
DTSTAMP:20260423T045954
CREATED:20251217T060645Z
LAST-MODIFIED:20251217T060645Z
UID:4287-1773328800-1773332400@vicparkps.wa.edu.au
SUMMARY:Afterschool Soccer Program
DESCRIPTION:
URL:https://vicparkps.wa.edu.au/calendar/afterschool-soccer-program-5/
CATEGORIES:Activities & Events
END:VEVENT
BEGIN:VEVENT
DTSTART;VALUE=DATE:20260316
DTEND;VALUE=DATE:20260321
DTSTAMP:20260423T045954
CREATED:20251104T022546Z
LAST-MODIFIED:20251104T022546Z
UID:3988-1773619200-1774051199@vicparkps.wa.edu.au
SUMMARY:NAPLAN
DESCRIPTION:
URL:https://vicparkps.wa.edu.au/calendar/naplan-3/
CATEGORIES:Other
END:VEVENT
BEGIN:VEVENT
DTSTART;TZID=Australia/Perth:20260318T070000
DTEND;TZID=Australia/Perth:20260318T080000
DTSTAMP:20260423T045954
CREATED:20251104T021604Z
LAST-MODIFIED:20251217T055853Z
UID:3972-1773817200-1773820800@vicparkps.wa.edu.au
SUMMARY:Swim Squad
DESCRIPTION:
URL:https://vicparkps.wa.edu.au/calendar/swim-squad-8/
CATEGORIES:Activities & Events
END:VEVENT
BEGIN:VEVENT
DTSTART;VALUE=DATE:20260319
DTEND;VALUE=DATE:20260320
DTSTAMP:20260423T045954
CREATED:20251110T053520Z
LAST-MODIFIED:20251110T053520Z
UID:4139-1773878400-1773964799@vicparkps.wa.edu.au
SUMMARY:Run Club
DESCRIPTION:
URL:https://vicparkps.wa.edu.au/calendar/run-club-18/
CATEGORIES:Activities & Events
END:VEVENT
BEGIN:VEVENT
DTSTART;VALUE=DATE:20260323
DTEND;VALUE=DATE:20260324
DTSTAMP:20260423T045954
CREATED:20251104T022628Z
LAST-MODIFIED:20251217T055723Z
UID:3990-1774224000-1774310399@vicparkps.wa.edu.au
SUMMARY:Interschool Swimming Carnival
DESCRIPTION:
URL:https://vicparkps.wa.edu.au/calendar/interschool-swimming-carnival-2/
CATEGORIES:Activities & Events
END:VEVENT
BEGIN:VEVENT
DTSTART;VALUE=DATE:20260324
DTEND;VALUE=DATE:20260325
DTSTAMP:20260423T045954
CREATED:20251104T021137Z
LAST-MODIFIED:20251104T021137Z
UID:3962-1774310400-1774396799@vicparkps.wa.edu.au
SUMMARY:Newsletter
DESCRIPTION:
URL:https://vicparkps.wa.edu.au/calendar/newsletter-29/
CATEGORIES:Other
END:VEVENT
BEGIN:VEVENT
DTSTART;VALUE=DATE:20260324
DTEND;VALUE=DATE:20260325
DTSTAMP:20260423T045954
CREATED:20251104T022704Z
LAST-MODIFIED:20251104T022704Z
UID:3991-1774310400-1774396799@vicparkps.wa.edu.au
SUMMARY:Parent Teacher Interviews - 1/2 Day Closure
DESCRIPTION:
URL:https://vicparkps.wa.edu.au/calendar/parent-teacher-interviews-1-2-day-closure/
CATEGORIES:Other
END:VEVENT
BEGIN:VEVENT
DTSTART;VALUE=DATE:20260326
DTEND;VALUE=DATE:20260327
DTSTAMP:20260423T045954
CREATED:20251110T053528Z
LAST-MODIFIED:20251110T053528Z
UID:4140-1774483200-1774569599@vicparkps.wa.edu.au
SUMMARY:Run Club
DESCRIPTION:
URL:https://vicparkps.wa.edu.au/calendar/run-club-19/
CATEGORIES:Activities & Events
END:VEVENT
BEGIN:VEVENT
DTSTART;TZID=Australia/Perth:20260326T073000
DTEND;TZID=Australia/Perth:20260326T083000
DTSTAMP:20260423T045954
CREATED:20251104T022202Z
LAST-MODIFIED:20251104T022202Z
UID:3979-1774510200-1774513800@vicparkps.wa.edu.au
SUMMARY:School Board Meeting
DESCRIPTION:
URL:https://vicparkps.wa.edu.au/calendar/school-board-meeting-14/
CATEGORIES:P&C and School Board
END:VEVENT
BEGIN:VEVENT
DTSTART;TZID=Australia/Perth:20260326T152000
DTEND;TZID=Australia/Perth:20260326T162000
DTSTAMP:20260423T045954
CREATED:20251217T060730Z
LAST-MODIFIED:20251217T060730Z
UID:4291-1774538400-1774542000@vicparkps.wa.edu.au
SUMMARY:Afterschool Soccer Program
DESCRIPTION:
URL:https://vicparkps.wa.edu.au/calendar/afterschool-soccer-program-6/
CATEGORIES:Activities & Events
END:VEVENT
BEGIN:VEVENT
DTSTART;VALUE=DATE:20260331
DTEND;VALUE=DATE:20260401
DTSTAMP:20260423T045954
CREATED:20251104T022723Z
LAST-MODIFIED:20251104T022723Z
UID:3992-1774915200-1775001599@vicparkps.wa.edu.au
SUMMARY:Summer Carnival
DESCRIPTION:
URL:https://vicparkps.wa.edu.au/calendar/summer-carnival-2/
CATEGORIES:Activities & Events
END:VEVENT
BEGIN:VEVENT
DTSTART;VALUE=DATE:20260402
DTEND;VALUE=DATE:20260403
DTSTAMP:20260423T045954
CREATED:20251104T022758Z
LAST-MODIFIED:20251104T022758Z
UID:3993-1775088000-1775174399@vicparkps.wa.edu.au
SUMMARY:Last Day of Term 1
DESCRIPTION:
URL:https://vicparkps.wa.edu.au/calendar/last-day-of-term-1/
CATEGORIES:Term Dates & Public Holidays
END:VEVENT
BEGIN:VEVENT
DTSTART;VALUE=DATE:20260402
DTEND;VALUE=DATE:20260403
DTSTAMP:20260423T045954
CREATED:20251110T055444Z
LAST-MODIFIED:20251110T055444Z
UID:4202-1775088000-1775174399@vicparkps.wa.edu.au
SUMMARY:Run Club
DESCRIPTION:
URL:https://vicparkps.wa.edu.au/calendar/run-club-48/
CATEGORIES:Activities & Events
END:VEVENT
BEGIN:VEVENT
DTSTART;TZID=Australia/Perth:20260402T152000
DTEND;TZID=Australia/Perth:20260402T162000
DTSTAMP:20260423T045954
CREATED:20251217T060750Z
LAST-MODIFIED:20251217T060750Z
UID:4292-1775143200-1775146800@vicparkps.wa.edu.au
SUMMARY:Afterschool Soccer Program
DESCRIPTION:
URL:https://vicparkps.wa.edu.au/calendar/afterschool-soccer-program-7/
CATEGORIES:Activities & Events
END:VEVENT
BEGIN:VEVENT
DTSTART;VALUE=DATE:20260403
DTEND;VALUE=DATE:20260404
DTSTAMP:20260423T045954
CREATED:20251104T022815Z
LAST-MODIFIED:20251104T022815Z
UID:3994-1775174400-1775260799@vicparkps.wa.edu.au
SUMMARY:Good Friday
DESCRIPTION:
URL:https://vicparkps.wa.edu.au/calendar/good-friday/
CATEGORIES:Term Dates & Public Holidays
END:VEVENT
BEGIN:VEVENT
DTSTART;VALUE=DATE:20260404
DTEND;VALUE=DATE:20260420
DTSTAMP:20260423T045954
CREATED:20251104T022910Z
LAST-MODIFIED:20251104T022910Z
UID:4005-1775260800-1776643199@vicparkps.wa.edu.au
SUMMARY:School Holidays
DESCRIPTION:
URL:https://vicparkps.wa.edu.au/calendar/school-holidays-7/
CATEGORIES:Term Dates & Public Holidays
END:VEVENT
BEGIN:VEVENT
DTSTART;VALUE=DATE:20260420
DTEND;VALUE=DATE:20260421
DTSTAMP:20260423T045954
CREATED:20251104T022946Z
LAST-MODIFIED:20251104T022946Z
UID:4007-1776643200-1776729599@vicparkps.wa.edu.au
SUMMARY:First Day of Term 2
DESCRIPTION:
URL:https://vicparkps.wa.edu.au/calendar/first-day-of-term-2-2/
CATEGORIES:Term Dates & Public Holidays
END:VEVENT
BEGIN:VEVENT
DTSTART;VALUE=DATE:20260420
DTEND;VALUE=DATE:20260421
DTSTAMP:20260423T045954
CREATED:20251104T023216Z
LAST-MODIFIED:20251104T024405Z
UID:4009-1776643200-1776729599@vicparkps.wa.edu.au
SUMMARY:2027 Kindy Enrolment Applications Open
DESCRIPTION:
URL:https://vicparkps.wa.edu.au/calendar/2027-kindy-enrolment-applications-open/
CATEGORIES:Other
END:VEVENT
BEGIN:VEVENT
DTSTART;VALUE=DATE:20260423
DTEND;VALUE=DATE:20260424
DTSTAMP:20260423T045954
CREATED:20251110T053559Z
LAST-MODIFIED:20251110T053559Z
UID:4142-1776902400-1776988799@vicparkps.wa.edu.au
SUMMARY:Run Club
DESCRIPTION:
URL:https://vicparkps.wa.edu.au/calendar/run-club-21/
CATEGORIES:Activities & Events
END:VEVENT
BEGIN:VEVENT
DTSTART;TZID=Australia/Perth:20260424T090000
DTEND;TZID=Australia/Perth:20260424T093000
DTSTAMP:20260423T045954
CREATED:20251104T023302Z
LAST-MODIFIED:20251104T023302Z
UID:4011-1777021200-1777023000@vicparkps.wa.edu.au
SUMMARY:ANZAC Service
DESCRIPTION:
URL:https://vicparkps.wa.edu.au/calendar/anzac-service/
CATEGORIES:Activities & Events
END:VEVENT
BEGIN:VEVENT
DTSTART;VALUE=DATE:20260427
DTEND;VALUE=DATE:20260428
DTSTAMP:20260423T045954
CREATED:20251104T023332Z
LAST-MODIFIED:20251104T023332Z
UID:4012-1777248000-1777334399@vicparkps.wa.edu.au
SUMMARY:ANZAC Day Public Holiday
DESCRIPTION:
URL:https://vicparkps.wa.edu.au/calendar/anzac-day-public-holiday-2/
CATEGORIES:Term Dates & Public Holidays
END:VEVENT
END:VCALENDAR