BEGIN:VCALENDAR
VERSION:2.0
PRODID:-//Victoria Park Primary School - ECPv6.15.16.1//NONSGML v1.0//EN
CALSCALE:GREGORIAN
METHOD:PUBLISH
X-WR-CALNAME:Victoria Park Primary School
X-ORIGINAL-URL:https://vicparkps.wa.edu.au
X-WR-CALDESC:Events for Victoria Park Primary School
REFRESH-INTERVAL;VALUE=DURATION:PT1H
X-Robots-Tag:noindex
X-PUBLISHED-TTL:PT1H
BEGIN:VTIMEZONE
TZID:Australia/Perth
BEGIN:STANDARD
TZOFFSETFROM:+0800
TZOFFSETTO:+0800
TZNAME:AWST
DTSTART:20230101T000000
END:STANDARD
END:VTIMEZONE
BEGIN:VEVENT
DTSTART;VALUE=DATE:20250806
DTEND;VALUE=DATE:20250807
DTSTAMP:20260423T175955
CREATED:20250724T021741Z
LAST-MODIFIED:20250724T021741Z
UID:3719-1754438400-1754524799@vicparkps.wa.edu.au
SUMMARY:Australian Maths Competition (AMC)
DESCRIPTION:
URL:https://vicparkps.wa.edu.au/calendar/australian-maths-competition-amc/
CATEGORIES:Activities & Events
END:VEVENT
BEGIN:VEVENT
DTSTART;VALUE=DATE:20250806
DTEND;VALUE=DATE:20250807
DTSTAMP:20260423T175955
CREATED:20250724T021633Z
LAST-MODIFIED:20250724T021633Z
UID:3715-1754438400-1754524799@vicparkps.wa.edu.au
SUMMARY:PEAC Testing
DESCRIPTION:
URL:https://vicparkps.wa.edu.au/calendar/peac-testing-4/
CATEGORIES:Activities & Events
END:VEVENT
BEGIN:VEVENT
DTSTART;VALUE=DATE:20250805
DTEND;VALUE=DATE:20250806
DTSTAMP:20260423T175955
CREATED:20250724T021709Z
LAST-MODIFIED:20250724T021709Z
UID:3717-1754352000-1754438399@vicparkps.wa.edu.au
SUMMARY:ICAS - Digi Tech
DESCRIPTION:
URL:https://vicparkps.wa.edu.au/calendar/icas-digi-tech/
CATEGORIES:Activities & Events
END:VEVENT
BEGIN:VEVENT
DTSTART;VALUE=DATE:20250805
DTEND;VALUE=DATE:20250806
DTSTAMP:20260423T175955
CREATED:20250724T021617Z
LAST-MODIFIED:20250724T021617Z
UID:3713-1754352000-1754438399@vicparkps.wa.edu.au
SUMMARY:PEAC Testing
DESCRIPTION:
URL:https://vicparkps.wa.edu.au/calendar/peac-testing-3/
CATEGORIES:Activities & Events
END:VEVENT
BEGIN:VEVENT
DTSTART;VALUE=DATE:20250804
DTEND;VALUE=DATE:20250805
DTSTAMP:20260423T175955
CREATED:20250724T021557Z
LAST-MODIFIED:20250724T021557Z
UID:3711-1754265600-1754351999@vicparkps.wa.edu.au
SUMMARY:PEAC Testing
DESCRIPTION:
URL:https://vicparkps.wa.edu.au/calendar/peac-testing-2/
CATEGORIES:Activities & Events
END:VEVENT
BEGIN:VEVENT
DTSTART;VALUE=DATE:20250731
DTEND;VALUE=DATE:20250801
DTSTAMP:20260423T175955
CREATED:20250724T021535Z
LAST-MODIFIED:20250724T021535Z
UID:3709-1753920000-1754006399@vicparkps.wa.edu.au
SUMMARY:Interschool Cross Country
DESCRIPTION:
URL:https://vicparkps.wa.edu.au/calendar/interschool-cross-country-2/
CATEGORIES:Activities & Events
END:VEVENT
BEGIN:VEVENT
DTSTART;VALUE=DATE:20250730
DTEND;VALUE=DATE:20250731
DTSTAMP:20260423T175955
CREATED:20250724T021509Z
LAST-MODIFIED:20250724T021509Z
UID:3707-1753833600-1753919999@vicparkps.wa.edu.au
SUMMARY:Year 5 Zoo Excursion
DESCRIPTION:
URL:https://vicparkps.wa.edu.au/calendar/year-5-zoo-excursion/
CATEGORIES:Activities & Events
END:VEVENT
BEGIN:VEVENT
DTSTART;VALUE=DATE:20250729
DTEND;VALUE=DATE:20250730
DTSTAMP:20260423T175955
CREATED:20250724T021440Z
LAST-MODIFIED:20250724T021440Z
UID:3705-1753747200-1753833599@vicparkps.wa.edu.au
SUMMARY:Intergenerational Music Experience
DESCRIPTION:
URL:https://vicparkps.wa.edu.au/calendar/intergenerational-music-experience-8/
CATEGORIES:Activities & Events
END:VEVENT
BEGIN:VEVENT
DTSTART;VALUE=DATE:20250728
DTEND;VALUE=DATE:20250729
DTSTAMP:20260423T175955
CREATED:20250724T021357Z
LAST-MODIFIED:20250724T022730Z
UID:3703-1753660800-1753747199@vicparkps.wa.edu.au
SUMMARY:Yr6 STEM Incursion
DESCRIPTION:
URL:https://vicparkps.wa.edu.au/calendar/year-6-stem-excursion/
CATEGORIES:Activities & Events
END:VEVENT
BEGIN:VEVENT
DTSTART;VALUE=DATE:20250721
DTEND;VALUE=DATE:20250722
DTSTAMP:20260423T175955
CREATED:20250724T021330Z
LAST-MODIFIED:20250724T021330Z
UID:3701-1753056000-1753142399@vicparkps.wa.edu.au
SUMMARY:First Day of Term 3
DESCRIPTION:
URL:https://vicparkps.wa.edu.au/calendar/first-day-of-term-3-2/
CATEGORIES:Term Dates & Public Holidays
END:VEVENT
BEGIN:VEVENT
DTSTART;VALUE=DATE:20241214
DTEND;VALUE=DATE:20250205
DTSTAMP:20260423T175955
CREATED:20240313T033251Z
LAST-MODIFIED:20240313T033251Z
UID:3023-1734134400-1738713599@vicparkps.wa.edu.au
SUMMARY:School Holidays
DESCRIPTION:
URL:https://vicparkps.wa.edu.au/calendar/school-holidays-4/
CATEGORIES:Term Dates & Public Holidays
END:VEVENT
BEGIN:VEVENT
DTSTART;VALUE=DATE:20241213
DTEND;VALUE=DATE:20241214
DTSTAMP:20260423T175955
CREATED:20240318T001800Z
LAST-MODIFIED:20240318T001800Z
UID:3148-1734048000-1734134399@vicparkps.wa.edu.au
SUMMARY:School Development Day
DESCRIPTION:
URL:https://vicparkps.wa.edu.au/calendar/school-development-day-4/
CATEGORIES:Term Dates & Public Holidays
END:VEVENT
BEGIN:VEVENT
DTSTART;VALUE=DATE:20241212
DTEND;VALUE=DATE:20241213
DTSTAMP:20260423T175955
CREATED:20240318T001641Z
LAST-MODIFIED:20240318T001641Z
UID:3146-1733961600-1734047999@vicparkps.wa.edu.au
SUMMARY:Last Day of Term 4
DESCRIPTION:
URL:https://vicparkps.wa.edu.au/calendar/last-day-of-term-4/
CATEGORIES:Term Dates & Public Holidays
END:VEVENT
BEGIN:VEVENT
DTSTART;TZID=Australia/Perth:20241211T090000
DTEND;TZID=Australia/Perth:20241211T100000
DTSTAMP:20260423T175955
CREATED:20240313T032949Z
LAST-MODIFIED:20240313T032949Z
UID:3015-1733907600-1733911200@vicparkps.wa.edu.au
SUMMARY:Presentation Assembly
DESCRIPTION:
URL:https://vicparkps.wa.edu.au/calendar/presentation-assembly/
CATEGORIES:Activities & Events
END:VEVENT
BEGIN:VEVENT
DTSTART;VALUE=DATE:20241206
DTEND;VALUE=DATE:20241207
DTSTAMP:20260423T175955
CREATED:20240318T001559Z
LAST-MODIFIED:20240318T001559Z
UID:3144-1733443200-1733529599@vicparkps.wa.edu.au
SUMMARY:Year 6 Big Day Out
DESCRIPTION:
URL:https://vicparkps.wa.edu.au/calendar/year-6-big-day-out/
CATEGORIES:Activities & Events
END:VEVENT
BEGIN:VEVENT
DTSTART;TZID=Australia/Perth:20241204T173000
DTEND;TZID=Australia/Perth:20241204T204500
DTSTAMP:20260423T175955
CREATED:20240318T001448Z
LAST-MODIFIED:20240318T001448Z
UID:3142-1733333400-1733345100@vicparkps.wa.edu.au
SUMMARY:Year 6 Dinner Dance
DESCRIPTION:
URL:https://vicparkps.wa.edu.au/calendar/year-6-dinner-dance/
CATEGORIES:Activities & Events
END:VEVENT
BEGIN:VEVENT
DTSTART;TZID=Australia/Perth:20241204T090000
DTEND;TZID=Australia/Perth:20241204T110000
DTSTAMP:20260423T175955
CREATED:20240318T001320Z
LAST-MODIFIED:20240318T001320Z
UID:3140-1733302800-1733310000@vicparkps.wa.edu.au
SUMMARY:Year 6 Graduation
DESCRIPTION:
URL:https://vicparkps.wa.edu.au/calendar/year-6-graduation/
CATEGORIES:Activities & Events
END:VEVENT
BEGIN:VEVENT
DTSTART;VALUE=DATE:20241203
DTEND;VALUE=DATE:20241204
DTSTAMP:20260423T175955
CREATED:20240317T235401Z
LAST-MODIFIED:20240317T235401Z
UID:3122-1733184000-1733270399@vicparkps.wa.edu.au
SUMMARY:Newsletter
DESCRIPTION:
URL:https://vicparkps.wa.edu.au/calendar/newsletter-21/
CATEGORIES:Other
END:VEVENT
BEGIN:VEVENT
DTSTART;VALUE=DATE:20241202
DTEND;VALUE=DATE:20241203
DTSTAMP:20260423T175955
CREATED:20240430T034050Z
LAST-MODIFIED:20240430T034050Z
UID:3289-1733097600-1733183999@vicparkps.wa.edu.au
SUMMARY:Intergenerational Music experience
DESCRIPTION:
URL:https://vicparkps.wa.edu.au/calendar/intergenerational-music-experience-7/
CATEGORIES:Activities & Events
END:VEVENT
BEGIN:VEVENT
DTSTART;VALUE=DATE:20241202
DTEND;VALUE=DATE:20241212
DTSTAMP:20260423T175955
CREATED:20240318T001135Z
LAST-MODIFIED:20240318T001135Z
UID:3138-1733097600-1733961599@vicparkps.wa.edu.au
SUMMARY:Pre-Primary Swimming Lessons
DESCRIPTION:
URL:https://vicparkps.wa.edu.au/calendar/pre-primary-swimming-lessons/
CATEGORIES:Activities & Events
END:VEVENT
BEGIN:VEVENT
DTSTART;TZID=Australia/Perth:20241129T085000
DTEND;TZID=Australia/Perth:20241129T093000
DTSTAMP:20260423T175955
CREATED:20240313T032128Z
LAST-MODIFIED:20240327T034154Z
UID:3011-1732870200-1732872600@vicparkps.wa.edu.au
SUMMARY:Assembly - Room 8
DESCRIPTION:
URL:https://vicparkps.wa.edu.au/calendar/assembly-room-8/
CATEGORIES:Activities & Events
END:VEVENT
BEGIN:VEVENT
DTSTART;VALUE=DATE:20241129
DTEND;VALUE=DATE:20241130
DTSTAMP:20260423T175955
CREATED:20241101T024659Z
LAST-MODIFIED:20241101T024659Z
UID:3524-1732838400-1732924799@vicparkps.wa.edu.au
SUMMARY:Reports Home
DESCRIPTION:
URL:https://vicparkps.wa.edu.au/calendar/reports-home/
CATEGORIES:Activities & Events
END:VEVENT
BEGIN:VEVENT
DTSTART;TZID=Australia/Perth:20241128T180000
DTEND;TZID=Australia/Perth:20241128T190000
DTSTAMP:20260423T175955
CREATED:20241016T040024Z
LAST-MODIFIED:20241016T040024Z
UID:3500-1732816800-1732820400@vicparkps.wa.edu.au
SUMMARY:Carols by Sunset
DESCRIPTION:
URL:https://vicparkps.wa.edu.au/calendar/carols-by-sunset/
CATEGORIES:Activities & Events
END:VEVENT
BEGIN:VEVENT
DTSTART;TZID=Australia/Perth:20241128T084500
DTEND;TZID=Australia/Perth:20241128T093000
DTSTAMP:20260423T175955
CREATED:20241016T034737Z
LAST-MODIFIED:20241016T040215Z
UID:3487-1732783500-1732786200@vicparkps.wa.edu.au
SUMMARY:Thursday Tea & Talk
DESCRIPTION:
URL:https://vicparkps.wa.edu.au/calendar/thursday-tea-talk-6/
CATEGORIES:Activities & Events
END:VEVENT
BEGIN:VEVENT
DTSTART;TZID=Australia/Perth:20241128T073000
DTEND;TZID=Australia/Perth:20241128T084500
DTSTAMP:20260423T175955
CREATED:20240318T000714Z
LAST-MODIFIED:20240318T000714Z
UID:3136-1732779000-1732783500@vicparkps.wa.edu.au
SUMMARY:School Board Meeting
DESCRIPTION:
URL:https://vicparkps.wa.edu.au/calendar/school-board-meeting-8/
CATEGORIES:P&C and School Board
END:VEVENT
BEGIN:VEVENT
DTSTART;VALUE=DATE:20241127
DTEND;VALUE=DATE:20241128
DTSTAMP:20260423T175955
CREATED:20240809T035206Z
LAST-MODIFIED:20240809T035206Z
UID:3448-1732665600-1732751999@vicparkps.wa.edu.au
SUMMARY:Social Dance Yr 5 & 6
DESCRIPTION:
URL:https://vicparkps.wa.edu.au/calendar/social-dance-yr-5-6-6/
CATEGORIES:Activities & Events
END:VEVENT
BEGIN:VEVENT
DTSTART;VALUE=DATE:20241126
DTEND;VALUE=DATE:20241127
DTSTAMP:20260423T175955
CREATED:20241016T035700Z
LAST-MODIFIED:20241016T035700Z
UID:3498-1732579200-1732665599@vicparkps.wa.edu.au
SUMMARY:Yr 2 Constable Care Safety School Excursion
DESCRIPTION:
URL:https://vicparkps.wa.edu.au/calendar/yr-2-constable-care-safety-school-excursion/
CATEGORIES:Activities & Events
END:VEVENT
BEGIN:VEVENT
DTSTART;VALUE=DATE:20241125
DTEND;VALUE=DATE:20241126
DTSTAMP:20260423T175955
CREATED:20241101T024023Z
LAST-MODIFIED:20241101T025320Z
UID:3522-1732492800-1732579199@vicparkps.wa.edu.au
SUMMARY:Step Up Day - Transition Day for PP
DESCRIPTION:
URL:https://vicparkps.wa.edu.au/calendar/step-up-day-transition-day-for-pp/
CATEGORIES:Activities & Events
END:VEVENT
BEGIN:VEVENT
DTSTART;VALUE=DATE:20241122
DTEND;VALUE=DATE:20241123
DTSTAMP:20260423T175955
CREATED:20241101T023928Z
LAST-MODIFIED:20241101T023928Z
UID:3520-1732233600-1732319999@vicparkps.wa.edu.au
SUMMARY:Colour Explosion Fun Run
DESCRIPTION:
URL:https://vicparkps.wa.edu.au/calendar/colour-explosion-fun-run/
CATEGORIES:Activities & Events
END:VEVENT
BEGIN:VEVENT
DTSTART;TZID=Australia/Perth:20241120T150000
DTEND;TZID=Australia/Perth:20241120T160000
DTSTAMP:20260423T175955
CREATED:20241025T025657Z
LAST-MODIFIED:20241025T025657Z
UID:3508-1732114800-1732118400@vicparkps.wa.edu.au
SUMMARY:2025 Kindy Orientation Play Afternoon
DESCRIPTION:
URL:https://vicparkps.wa.edu.au/calendar/2025-kindy-orientation-play-afternoon/
CATEGORIES:Activities & Events
END:VEVENT
END:VCALENDAR