BEGIN:VCALENDAR
VERSION:2.0
PRODID:-//Victoria Park Primary School - ECPv6.15.16.1//NONSGML v1.0//EN
CALSCALE:GREGORIAN
METHOD:PUBLISH
X-WR-CALNAME:Victoria Park Primary School
X-ORIGINAL-URL:https://vicparkps.wa.edu.au
X-WR-CALDESC:Events for Victoria Park Primary School
REFRESH-INTERVAL;VALUE=DURATION:PT1H
X-Robots-Tag:noindex
X-PUBLISHED-TTL:PT1H
BEGIN:VTIMEZONE
TZID:Australia/Perth
BEGIN:STANDARD
TZOFFSETFROM:+0800
TZOFFSETTO:+0800
TZNAME:AWST
DTSTART:20230101T000000
END:STANDARD
END:VTIMEZONE
BEGIN:VEVENT
DTSTART;VALUE=DATE:20240813
DTEND;VALUE=DATE:20240814
DTSTAMP:20260424T045457
CREATED:20240313T054933Z
LAST-MODIFIED:20240313T054933Z
UID:3053-1723507200-1723593599@vicparkps.wa.edu.au
SUMMARY:Newsletter
DESCRIPTION:
URL:https://vicparkps.wa.edu.au/calendar/newsletter-13/
CATEGORIES:Other
END:VEVENT
BEGIN:VEVENT
DTSTART;VALUE=DATE:20240812
DTEND;VALUE=DATE:20240817
DTSTAMP:20260424T045457
CREATED:20240718T044528Z
LAST-MODIFIED:20240718T044528Z
UID:3403-1723420800-1723852799@vicparkps.wa.edu.au
SUMMARY:ICAS - English
DESCRIPTION:
URL:https://vicparkps.wa.edu.au/calendar/icas-english/
CATEGORIES:Activities & Events
END:VEVENT
BEGIN:VEVENT
DTSTART;TZID=Australia/Perth:20240809T085000
DTEND;TZID=Australia/Perth:20240809T093000
DTSTAMP:20260424T045457
CREATED:20240313T031449Z
LAST-MODIFIED:20240313T031449Z
UID:2998-1723193400-1723195800@vicparkps.wa.edu.au
SUMMARY:Assembly - Room 3
DESCRIPTION:
URL:https://vicparkps.wa.edu.au/calendar/assembly-room-3/
CATEGORIES:Activities & Events
END:VEVENT
BEGIN:VEVENT
DTSTART;VALUE=DATE:20240809
DTEND;VALUE=DATE:20240810
DTSTAMP:20260424T045457
CREATED:20240718T043831Z
LAST-MODIFIED:20240718T043831Z
UID:3395-1723161600-1723247999@vicparkps.wa.edu.au
SUMMARY:Year 3-6 Athletics Practice
DESCRIPTION:
URL:https://vicparkps.wa.edu.au/calendar/year-3-6-athletics-practice-3/
CATEGORIES:Activities & Events
END:VEVENT
BEGIN:VEVENT
DTSTART;TZID=Australia/Perth:20240808T084500
DTEND;TZID=Australia/Perth:20240808T093000
DTSTAMP:20260424T045457
CREATED:20240718T044309Z
LAST-MODIFIED:20240723T032636Z
UID:3399-1723106700-1723109400@vicparkps.wa.edu.au
SUMMARY:Thursday Tea & Talk
DESCRIPTION:
URL:https://vicparkps.wa.edu.au/calendar/thursday-tea-talk-3/
CATEGORIES:Activities & Events
END:VEVENT
BEGIN:VEVENT
DTSTART;TZID=Australia/Perth:20240807T074500
DTEND;TZID=Australia/Perth:20240807T081500
DTSTAMP:20260424T045457
CREATED:20240619T033329Z
LAST-MODIFIED:20240625T035319Z
UID:3346-1723016700-1723018500@vicparkps.wa.edu.au
SUMMARY:Run Club
DESCRIPTION:
URL:https://vicparkps.wa.edu.au/calendar/run-club-4/
CATEGORIES:Activities & Events
END:VEVENT
BEGIN:VEVENT
DTSTART;VALUE=DATE:20240807
DTEND;VALUE=DATE:20240808
DTSTAMP:20260424T045457
CREATED:20240619T034302Z
LAST-MODIFIED:20240619T034302Z
UID:3360-1722988800-1723075199@vicparkps.wa.edu.au
SUMMARY:Year 1 Excursion - Optus Park
DESCRIPTION:
URL:https://vicparkps.wa.edu.au/calendar/year-1-excursion-optus-park/
CATEGORIES:Activities & Events
END:VEVENT
BEGIN:VEVENT
DTSTART;VALUE=DATE:20240806
DTEND;VALUE=DATE:20240809
DTSTAMP:20260424T045457
CREATED:20240718T044027Z
LAST-MODIFIED:20240718T044027Z
UID:3397-1722902400-1723161599@vicparkps.wa.edu.au
SUMMARY:AMC
DESCRIPTION:
URL:https://vicparkps.wa.edu.au/calendar/amc/
CATEGORIES:Activities & Events
END:VEVENT
BEGIN:VEVENT
DTSTART;VALUE=DATE:20240805
DTEND;VALUE=DATE:20240806
DTSTAMP:20260424T045457
CREATED:20240430T033041Z
LAST-MODIFIED:20240430T033041Z
UID:3283-1722816000-1722902399@vicparkps.wa.edu.au
SUMMARY:Intergenerational Music experience
DESCRIPTION:
URL:https://vicparkps.wa.edu.au/calendar/intergenerational-music-experience-4/
CATEGORIES:Activities & Events
END:VEVENT
BEGIN:VEVENT
DTSTART;VALUE=DATE:20240802
DTEND;VALUE=DATE:20240803
DTSTAMP:20260424T045457
CREATED:20240718T043751Z
LAST-MODIFIED:20240718T043751Z
UID:3391-1722556800-1722643199@vicparkps.wa.edu.au
SUMMARY:Year 3-6 Athletics Practice
DESCRIPTION:
URL:https://vicparkps.wa.edu.au/calendar/year-3-6-athletics-practice/
CATEGORIES:Activities & Events
END:VEVENT
BEGIN:VEVENT
DTSTART;TZID=Australia/Perth:20240801T073000
DTEND;TZID=Australia/Perth:20240801T084500
DTSTAMP:20260424T045457
CREATED:20240313T060328Z
LAST-MODIFIED:20240313T060328Z
UID:3063-1722497400-1722501900@vicparkps.wa.edu.au
SUMMARY:School Board Meeting
DESCRIPTION:
URL:https://vicparkps.wa.edu.au/calendar/school-board-meeting-5/
CATEGORIES:P&C and School Board
END:VEVENT
BEGIN:VEVENT
DTSTART;TZID=Australia/Perth:20240731T074500
DTEND;TZID=Australia/Perth:20240731T081500
DTSTAMP:20260424T045457
CREATED:20240619T033251Z
LAST-MODIFIED:20240625T035325Z
UID:3344-1722411900-1722413700@vicparkps.wa.edu.au
SUMMARY:Run Club
DESCRIPTION:
URL:https://vicparkps.wa.edu.au/calendar/run-club-3/
CATEGORIES:Activities & Events
END:VEVENT
BEGIN:VEVENT
DTSTART;VALUE=DATE:20240731
DTEND;VALUE=DATE:20240801
DTSTAMP:20260424T045457
CREATED:20240430T032753Z
LAST-MODIFIED:20240430T032753Z
UID:3281-1722384000-1722470399@vicparkps.wa.edu.au
SUMMARY:Intergenerational Music experience
DESCRIPTION:
URL:https://vicparkps.wa.edu.au/calendar/intergenerational-music-experience-3/
CATEGORIES:Activities & Events
END:VEVENT
BEGIN:VEVENT
DTSTART;VALUE=DATE:20240730
DTEND;VALUE=DATE:20240731
DTSTAMP:20260424T045457
CREATED:20240313T054902Z
LAST-MODIFIED:20240313T054902Z
UID:3051-1722297600-1722383999@vicparkps.wa.edu.au
SUMMARY:Newsletter
DESCRIPTION:
URL:https://vicparkps.wa.edu.au/calendar/newsletter-12/
CATEGORIES:Other
END:VEVENT
BEGIN:VEVENT
DTSTART;VALUE=DATE:20240729
DTEND;VALUE=DATE:20240801
DTSTAMP:20260424T045457
CREATED:20240718T043433Z
LAST-MODIFIED:20240718T043433Z
UID:3389-1722211200-1722470399@vicparkps.wa.edu.au
SUMMARY:PEAC Testing
DESCRIPTION:
URL:https://vicparkps.wa.edu.au/calendar/peac-testing/
CATEGORIES:Activities & Events
END:VEVENT
BEGIN:VEVENT
DTSTART;VALUE=DATE:20240729
DTEND;VALUE=DATE:20240730
DTSTAMP:20260424T045457
CREATED:20240516T011408Z
LAST-MODIFIED:20240516T011408Z
UID:3307-1722211200-1722297599@vicparkps.wa.edu.au
SUMMARY:Spare Parts' Puppet Theatre Incursion
DESCRIPTION:
URL:https://vicparkps.wa.edu.au/calendar/spare-parts-puppet-theatre-incursion/
CATEGORIES:Activities & Events
END:VEVENT
BEGIN:VEVENT
DTSTART;TZID=Australia/Perth:20240726T085000
DTEND;TZID=Australia/Perth:20240726T093000
DTSTAMP:20260424T045457
CREATED:20240313T030705Z
LAST-MODIFIED:20240313T030705Z
UID:2996-1721983800-1721986200@vicparkps.wa.edu.au
SUMMARY:Assembly - Room 1
DESCRIPTION:
URL:https://vicparkps.wa.edu.au/calendar/assembly-room-1/
CATEGORIES:Activities & Events
END:VEVENT
BEGIN:VEVENT
DTSTART;VALUE=DATE:20240726
DTEND;VALUE=DATE:20240727
DTSTAMP:20260424T045457
CREATED:20240718T043810Z
LAST-MODIFIED:20240718T043810Z
UID:3393-1721952000-1722038399@vicparkps.wa.edu.au
SUMMARY:Year 3-6 Athletics Practice
DESCRIPTION:
URL:https://vicparkps.wa.edu.au/calendar/year-3-6-athletics-practice-2/
CATEGORIES:Activities & Events
END:VEVENT
BEGIN:VEVENT
DTSTART;VALUE=DATE:20240726
DTEND;VALUE=DATE:20240727
DTSTAMP:20260424T045457
CREATED:20240313T055216Z
LAST-MODIFIED:20240313T055216Z
UID:3061-1721952000-1722038399@vicparkps.wa.edu.au
SUMMARY:NAIDOC
DESCRIPTION:
URL:https://vicparkps.wa.edu.au/calendar/naidoc/
CATEGORIES:Activities & Events
END:VEVENT
BEGIN:VEVENT
DTSTART;VALUE=DATE:20240725
DTEND;VALUE=DATE:20240726
DTSTAMP:20260424T045457
CREATED:20240313T055133Z
LAST-MODIFIED:20240313T055133Z
UID:3059-1721865600-1721951999@vicparkps.wa.edu.au
SUMMARY:Interschool Cross Country
DESCRIPTION:
URL:https://vicparkps.wa.edu.au/calendar/interschool-cross-country/
CATEGORIES:Activities & Events
END:VEVENT
BEGIN:VEVENT
DTSTART;TZID=Australia/Perth:20240724T074500
DTEND;TZID=Australia/Perth:20240724T081500
DTSTAMP:20260424T045457
CREATED:20240619T033214Z
LAST-MODIFIED:20240625T035332Z
UID:3342-1721807100-1721808900@vicparkps.wa.edu.au
SUMMARY:Run Club
DESCRIPTION:
URL:https://vicparkps.wa.edu.au/calendar/run-club-2/
CATEGORIES:Activities & Events
END:VEVENT
BEGIN:VEVENT
DTSTART;TZID=Australia/Perth:20240717T074500
DTEND;TZID=Australia/Perth:20240717T081500
DTSTAMP:20260424T045457
CREATED:20240619T033016Z
LAST-MODIFIED:20240625T035337Z
UID:3340-1721202300-1721204100@vicparkps.wa.edu.au
SUMMARY:Run Club
DESCRIPTION:
URL:https://vicparkps.wa.edu.au/calendar/run-club/
CATEGORIES:Activities & Events
END:VEVENT
BEGIN:VEVENT
DTSTART;VALUE=DATE:20240716
DTEND;VALUE=DATE:20240717
DTSTAMP:20260424T045457
CREATED:20240313T054718Z
LAST-MODIFIED:20240313T054718Z
UID:3049-1721088000-1721174399@vicparkps.wa.edu.au
SUMMARY:Newsletter
DESCRIPTION:
URL:https://vicparkps.wa.edu.au/calendar/newsletter-11/
CATEGORIES:Other
END:VEVENT
BEGIN:VEVENT
DTSTART;VALUE=DATE:20240715
DTEND;VALUE=DATE:20240716
DTSTAMP:20260424T045457
CREATED:20240313T054636Z
LAST-MODIFIED:20240313T054636Z
UID:3047-1721001600-1721087999@vicparkps.wa.edu.au
SUMMARY:First Day of Term 3
DESCRIPTION:
URL:https://vicparkps.wa.edu.au/calendar/first-day-of-term-3/
CATEGORIES:Term Dates & Public Holidays
END:VEVENT
BEGIN:VEVENT
DTSTART;VALUE=DATE:20240629
DTEND;VALUE=DATE:20240715
DTSTAMP:20260424T045457
CREATED:20240313T033116Z
LAST-MODIFIED:20240313T033116Z
UID:3019-1719619200-1721001599@vicparkps.wa.edu.au
SUMMARY:School Holidays
DESCRIPTION:
URL:https://vicparkps.wa.edu.au/calendar/school-holidays-2/
CATEGORIES:Term Dates & Public Holidays
END:VEVENT
BEGIN:VEVENT
DTSTART;VALUE=DATE:20240628
DTEND;VALUE=DATE:20240629
DTSTAMP:20260424T045457
CREATED:20240313T042023Z
LAST-MODIFIED:20240313T042023Z
UID:3045-1719532800-1719619199@vicparkps.wa.edu.au
SUMMARY:Last Day of Term 2
DESCRIPTION:
URL:https://vicparkps.wa.edu.au/calendar/last-day-of-term-2/
CATEGORIES:Term Dates & Public Holidays
END:VEVENT
BEGIN:VEVENT
DTSTART;VALUE=DATE:20240625
DTEND;VALUE=DATE:20240626
DTSTAMP:20260424T045457
CREATED:20240312T041749Z
LAST-MODIFIED:20240312T041749Z
UID:2971-1719273600-1719359999@vicparkps.wa.edu.au
SUMMARY:Newsletter
DESCRIPTION:
URL:https://vicparkps.wa.edu.au/calendar/newsletter-10/
CATEGORIES:Other
END:VEVENT
BEGIN:VEVENT
DTSTART;TZID=Australia/Perth:20240621T085000
DTEND;TZID=Australia/Perth:20240621T093000
DTSTAMP:20260424T045457
CREATED:20240313T023341Z
LAST-MODIFIED:20240313T023341Z
UID:2994-1718959800-1718962200@vicparkps.wa.edu.au
SUMMARY:Assembly - Room 7
DESCRIPTION:
URL:https://vicparkps.wa.edu.au/calendar/assembly-room-7/
CATEGORIES:Activities & Events
END:VEVENT
BEGIN:VEVENT
DTSTART;VALUE=DATE:20240620
DTEND;VALUE=DATE:20240621
DTSTAMP:20260424T045457
CREATED:20240313T041409Z
LAST-MODIFIED:20240313T041409Z
UID:3043-1718841600-1718927999@vicparkps.wa.edu.au
SUMMARY:Winter Carnival
DESCRIPTION:
URL:https://vicparkps.wa.edu.au/calendar/winter-carnival/
CATEGORIES:Activities & Events
END:VEVENT
BEGIN:VEVENT
DTSTART;VALUE=DATE:20240614
DTEND;VALUE=DATE:20240615
DTSTAMP:20260424T045457
CREATED:20240325T030416Z
LAST-MODIFIED:20240325T030416Z
UID:3162-1718323200-1718409599@vicparkps.wa.edu.au
SUMMARY:Cross Country - Pre-Primary
DESCRIPTION:
URL:https://vicparkps.wa.edu.au/calendar/cross-country-pre-primary/
CATEGORIES:Activities & Events
END:VEVENT
END:VCALENDAR