BEGIN:VCALENDAR
VERSION:2.0
PRODID:-//Victoria Park Primary School - ECPv6.15.16.1//NONSGML v1.0//EN
CALSCALE:GREGORIAN
METHOD:PUBLISH
X-WR-CALNAME:Victoria Park Primary School
X-ORIGINAL-URL:https://vicparkps.wa.edu.au
X-WR-CALDESC:Events for Victoria Park Primary School
REFRESH-INTERVAL;VALUE=DURATION:PT1H
X-Robots-Tag:noindex
X-PUBLISHED-TTL:PT1H
BEGIN:VTIMEZONE
TZID:Australia/Perth
BEGIN:STANDARD
TZOFFSETFROM:+0800
TZOFFSETTO:+0800
TZNAME:AWST
DTSTART:20230101T000000
END:STANDARD
END:VTIMEZONE
BEGIN:VEVENT
DTSTART;VALUE=DATE:20240417
DTEND;VALUE=DATE:20240418
DTSTAMP:20260425T220218
CREATED:20240313T021014Z
LAST-MODIFIED:20240318T021138Z
UID:2975-1713312000-1713398399@vicparkps.wa.edu.au
SUMMARY:School Photos
DESCRIPTION:
URL:https://vicparkps.wa.edu.au/calendar/school-photos/
CATEGORIES:Activities & Events
END:VEVENT
BEGIN:VEVENT
DTSTART;VALUE=DATE:20240416
DTEND;VALUE=DATE:20240417
DTSTAMP:20260425T220218
CREATED:20240312T041322Z
LAST-MODIFIED:20240312T041322Z
UID:2961-1713225600-1713311999@vicparkps.wa.edu.au
SUMMARY:Newsletter
DESCRIPTION:
URL:https://vicparkps.wa.edu.au/calendar/newsletter-5/
CATEGORIES:Other
END:VEVENT
BEGIN:VEVENT
DTSTART;VALUE=DATE:20240415
DTEND;VALUE=DATE:20240416
DTSTAMP:20260425T220218
CREATED:20240312T033407Z
LAST-MODIFIED:20240312T033407Z
UID:2948-1713139200-1713225599@vicparkps.wa.edu.au
SUMMARY:First Day of Term 2
DESCRIPTION:
URL:https://vicparkps.wa.edu.au/calendar/first-day-of-term-2/
CATEGORIES:Term Dates & Public Holidays
END:VEVENT
BEGIN:VEVENT
DTSTART;VALUE=DATE:20240329
DTEND;VALUE=DATE:20240415
DTSTAMP:20260425T220218
CREATED:20240313T033044Z
LAST-MODIFIED:20240313T033044Z
UID:3017-1711670400-1713139199@vicparkps.wa.edu.au
SUMMARY:School Holidays
DESCRIPTION:
URL:https://vicparkps.wa.edu.au/calendar/school-holidays/
CATEGORIES:Term Dates & Public Holidays
END:VEVENT
BEGIN:VEVENT
DTSTART;VALUE=DATE:20240329
DTEND;VALUE=DATE:20240330
DTSTAMP:20260425T220218
CREATED:20240223T064055Z
LAST-MODIFIED:20240223T064055Z
UID:2926-1711670400-1711756799@vicparkps.wa.edu.au
SUMMARY:Easter Friday Public Holiday
DESCRIPTION:
URL:https://vicparkps.wa.edu.au/calendar/easter-friday-public-holiday/
CATEGORIES:Term Dates & Public Holidays
END:VEVENT
BEGIN:VEVENT
DTSTART;VALUE=DATE:20240328
DTEND;VALUE=DATE:20240329
DTSTAMP:20260425T220218
CREATED:20240116T101216Z
LAST-MODIFIED:20240116T101216Z
UID:2596-1711584000-1711670399@vicparkps.wa.edu.au
SUMMARY:End of term 1
DESCRIPTION:
URL:https://vicparkps.wa.edu.au/calendar/end-of-term-1/
CATEGORIES:Term Dates & Public Holidays
END:VEVENT
BEGIN:VEVENT
DTSTART;VALUE=DATE:20240327
DTEND;VALUE=DATE:20240328
DTSTAMP:20260425T220218
CREATED:20240223T064028Z
LAST-MODIFIED:20240223T064028Z
UID:2924-1711497600-1711583999@vicparkps.wa.edu.au
SUMMARY:Constable Care Safety School Excursion (Room 3\, 4 & 5)
DESCRIPTION:
URL:https://vicparkps.wa.edu.au/calendar/constable-care-safety-school-excursion-room-3-4-5/
CATEGORIES:Activities & Events
END:VEVENT
BEGIN:VEVENT
DTSTART;VALUE=DATE:20240326
DTEND;VALUE=DATE:20240329
DTSTAMP:20260425T220218
CREATED:20240223T063932Z
LAST-MODIFIED:20240223T063941Z
UID:2922-1711411200-1711670399@vicparkps.wa.edu.au
SUMMARY:Book Fair
DESCRIPTION:
URL:https://vicparkps.wa.edu.au/calendar/book-fair/
CATEGORIES:Activities & Events
END:VEVENT
BEGIN:VEVENT
DTSTART;VALUE=DATE:20240326
DTEND;VALUE=DATE:20240327
DTSTAMP:20260425T220218
CREATED:20240223T063907Z
LAST-MODIFIED:20240223T063907Z
UID:2920-1711411200-1711497599@vicparkps.wa.edu.au
SUMMARY:Summer Carnival
DESCRIPTION:
URL:https://vicparkps.wa.edu.au/calendar/summer-carnival/
CATEGORIES:Activities & Events
END:VEVENT
BEGIN:VEVENT
DTSTART;VALUE=DATE:20240326
DTEND;VALUE=DATE:20240327
DTSTAMP:20260425T220218
CREATED:20240223T063842Z
LAST-MODIFIED:20240223T063842Z
UID:2918-1711411200-1711497599@vicparkps.wa.edu.au
SUMMARY:Newsletter
DESCRIPTION:
URL:https://vicparkps.wa.edu.au/calendar/newsletter-4/
CATEGORIES:Other
END:VEVENT
BEGIN:VEVENT
DTSTART;VALUE=DATE:20240325
DTEND;VALUE=DATE:20240326
DTSTAMP:20260425T220218
CREATED:20240223T063812Z
LAST-MODIFIED:20240223T063821Z
UID:2916-1711324800-1711411199@vicparkps.wa.edu.au
SUMMARY:Early close Parent interviews 11am
DESCRIPTION:
URL:https://vicparkps.wa.edu.au/calendar/early-close-parent-interviews-11am/
CATEGORIES:Other
END:VEVENT
BEGIN:VEVENT
DTSTART;TZID=Australia/Perth:20240322T180000
DTEND;TZID=Australia/Perth:20240322T200000
DTSTAMP:20260425T220218
CREATED:20240223T063743Z
LAST-MODIFIED:20240301T001821Z
UID:2913-1711130400-1711137600@vicparkps.wa.edu.au
SUMMARY:Movie Night
DESCRIPTION:
URL:https://vicparkps.wa.edu.au/calendar/movie-night/
CATEGORIES:P&C and School Board
END:VEVENT
BEGIN:VEVENT
DTSTART;TZID=Australia/Perth:20240322T085000
DTEND;TZID=Australia/Perth:20240322T093000
DTSTAMP:20260425T220218
CREATED:20240220T064311Z
LAST-MODIFIED:20240313T023009Z
UID:2738-1711097400-1711099800@vicparkps.wa.edu.au
SUMMARY:Assembly - Room 13
DESCRIPTION:
URL:https://vicparkps.wa.edu.au/calendar/assembly-4/
CATEGORIES:Activities & Events
END:VEVENT
BEGIN:VEVENT
DTSTART;TZID=Australia/Perth:20240322T083000
DTEND;TZID=Australia/Perth:20240322T085000
DTSTAMP:20260425T220218
CREATED:20240312T040436Z
LAST-MODIFIED:20240312T040436Z
UID:2959-1711096200-1711097400@vicparkps.wa.edu.au
SUMMARY:Easter Raffle - Tickets on Sale
DESCRIPTION:
URL:https://vicparkps.wa.edu.au/calendar/easter-raffle-tickets-on-sale-5/
CATEGORIES:Activities & Events
END:VEVENT
BEGIN:VEVENT
DTSTART;TZID=Australia/Perth:20240321T083000
DTEND;TZID=Australia/Perth:20240321T085000
DTSTAMP:20260425T220218
CREATED:20240312T040358Z
LAST-MODIFIED:20240312T040358Z
UID:2957-1711009800-1711011000@vicparkps.wa.edu.au
SUMMARY:Easter Raffle - Tickets on Sale
DESCRIPTION:
URL:https://vicparkps.wa.edu.au/calendar/easter-raffle-tickets-on-sale-4/
CATEGORIES:Activities & Events
END:VEVENT
BEGIN:VEVENT
DTSTART;TZID=Australia/Perth:20240321T073000
DTEND;TZID=Australia/Perth:20240321T084500
DTSTAMP:20260425T220218
CREATED:20240223T063606Z
LAST-MODIFIED:20240223T063606Z
UID:2909-1711006200-1711010700@vicparkps.wa.edu.au
SUMMARY:School Board Meeting
DESCRIPTION:
URL:https://vicparkps.wa.edu.au/calendar/school-board-meeting-2/
CATEGORIES:P&C and School Board
END:VEVENT
BEGIN:VEVENT
DTSTART;TZID=Australia/Perth:20240320T083000
DTEND;TZID=Australia/Perth:20240320T085000
DTSTAMP:20260425T220218
CREATED:20240312T033819Z
LAST-MODIFIED:20240312T033819Z
UID:2955-1710923400-1710924600@vicparkps.wa.edu.au
SUMMARY:Easter Raffle - Tickets on Sale
DESCRIPTION:
URL:https://vicparkps.wa.edu.au/calendar/easter-raffle-tickets-on-sale-3/
CATEGORIES:Activities & Events
END:VEVENT
BEGIN:VEVENT
DTSTART;VALUE=DATE:20240320
DTEND;VALUE=DATE:20240321
DTSTAMP:20260425T220218
CREATED:20240223T063528Z
LAST-MODIFIED:20240223T063528Z
UID:2907-1710892800-1710979199@vicparkps.wa.edu.au
SUMMARY:Year 6 Leadership Excursion
DESCRIPTION:
URL:https://vicparkps.wa.edu.au/calendar/year-6-leadership-excursion/
CATEGORIES:Activities & Events
END:VEVENT
BEGIN:VEVENT
DTSTART;TZID=Australia/Perth:20240319T083000
DTEND;TZID=Australia/Perth:20240319T085000
DTSTAMP:20260425T220218
CREATED:20240312T033744Z
LAST-MODIFIED:20240312T033744Z
UID:2953-1710837000-1710838200@vicparkps.wa.edu.au
SUMMARY:Easter Raffle - Tickets on Sale
DESCRIPTION:
URL:https://vicparkps.wa.edu.au/calendar/easter-raffle-tickets-on-sale-2/
CATEGORIES:Activities & Events
END:VEVENT
BEGIN:VEVENT
DTSTART;TZID=Australia/Perth:20240318T190000
DTEND;TZID=Australia/Perth:20240318T200000
DTSTAMP:20260425T220218
CREATED:20240223T063445Z
LAST-MODIFIED:20240223T063445Z
UID:2905-1710788400-1710792000@vicparkps.wa.edu.au
SUMMARY:P&C Meeting
DESCRIPTION:
URL:https://vicparkps.wa.edu.au/calendar/pc-meeting-2/
CATEGORIES:P&C and School Board
END:VEVENT
BEGIN:VEVENT
DTSTART;TZID=Australia/Perth:20240318T083000
DTEND;TZID=Australia/Perth:20240318T085000
DTSTAMP:20260425T220218
CREATED:20240312T033607Z
LAST-MODIFIED:20240312T033607Z
UID:2950-1710750600-1710751800@vicparkps.wa.edu.au
SUMMARY:Easter Raffle - Tickets on Sale
DESCRIPTION:
URL:https://vicparkps.wa.edu.au/calendar/easter-raffle-tickets-on-sale/
CATEGORIES:Activities & Events
END:VEVENT
BEGIN:VEVENT
DTSTART;VALUE=DATE:20240313
DTEND;VALUE=DATE:20240326
DTSTAMP:20260425T220218
CREATED:20240223T063358Z
LAST-MODIFIED:20240223T063409Z
UID:2903-1710288000-1711411199@vicparkps.wa.edu.au
SUMMARY:NAPLAN
DESCRIPTION:
URL:https://vicparkps.wa.edu.au/calendar/naplan/
CATEGORIES:Activities & Events
END:VEVENT
BEGIN:VEVENT
DTSTART;VALUE=DATE:20240312
DTEND;VALUE=DATE:20240313
DTSTAMP:20260425T220218
CREATED:20240223T063323Z
LAST-MODIFIED:20240223T063323Z
UID:2901-1710201600-1710287999@vicparkps.wa.edu.au
SUMMARY:Newsletter
DESCRIPTION:
URL:https://vicparkps.wa.edu.au/calendar/newsletter-3/
CATEGORIES:Other
END:VEVENT
BEGIN:VEVENT
DTSTART;VALUE=DATE:20240312
DTEND;VALUE=DATE:20240313
DTSTAMP:20260425T220218
CREATED:20240223T063257Z
LAST-MODIFIED:20240223T063257Z
UID:2899-1710201600-1710287999@vicparkps.wa.edu.au
SUMMARY:Interschool Swimming Carnival
DESCRIPTION:
URL:https://vicparkps.wa.edu.au/calendar/interschool-swimming-carnival/
CATEGORIES:Activities & Events
END:VEVENT
BEGIN:VEVENT
DTSTART;TZID=Australia/Perth:20240308T085000
DTEND;TZID=Australia/Perth:20240308T093000
DTSTAMP:20260425T220218
CREATED:20240220T064231Z
LAST-MODIFIED:20240220T064231Z
UID:2737-1709887800-1709890200@vicparkps.wa.edu.au
SUMMARY:Assembly
DESCRIPTION:
URL:https://vicparkps.wa.edu.au/calendar/assembly-3/
CATEGORIES:Activities & Events
END:VEVENT
BEGIN:VEVENT
DTSTART;TZID=Australia/Perth:20240307T084500
DTEND;TZID=Australia/Perth:20240307T093000
DTSTAMP:20260425T220218
CREATED:20240223T063142Z
LAST-MODIFIED:20240229T013302Z
UID:2893-1709801100-1709803800@vicparkps.wa.edu.au
SUMMARY:Thursday Tea & Talk
DESCRIPTION:
URL:https://vicparkps.wa.edu.au/calendar/thursday-tea-talk-2/
CATEGORIES:Activities & Events
END:VEVENT
BEGIN:VEVENT
DTSTART;TZID=Australia/Perth:20240306T090000
DTEND;TZID=Australia/Perth:20240306T100000
DTSTAMP:20260425T220218
CREATED:20240223T063027Z
LAST-MODIFIED:20240223T063027Z
UID:2888-1709715600-1709719200@vicparkps.wa.edu.au
SUMMARY:EAL/D Parent Information Session
DESCRIPTION:
URL:https://vicparkps.wa.edu.au/calendar/eal-d-parent-information-session/
CATEGORIES:Activities & Events
END:VEVENT
BEGIN:VEVENT
DTSTART;TZID=Australia/Perth:20240306T070000
DTEND;TZID=Australia/Perth:20240306T080000
DTSTAMP:20260425T220218
CREATED:20240223T062816Z
LAST-MODIFIED:20240223T062816Z
UID:2886-1709708400-1709712000@vicparkps.wa.edu.au
SUMMARY:Swim Squad
DESCRIPTION:
URL:https://vicparkps.wa.edu.au/calendar/swim-squad-3/
CATEGORIES:Activities & Events
END:VEVENT
BEGIN:VEVENT
DTSTART;VALUE=DATE:20240306
DTEND;VALUE=DATE:20240307
DTSTAMP:20260425T220218
CREATED:20240223T063056Z
LAST-MODIFIED:20240223T063056Z
UID:2891-1709683200-1709769599@vicparkps.wa.edu.au
SUMMARY:Year 6 Cupcake Stall
DESCRIPTION:
URL:https://vicparkps.wa.edu.au/calendar/year-6-cupcake-stall/
CATEGORIES:Activities & Events
END:VEVENT
BEGIN:VEVENT
DTSTART;TZID=Australia/Perth:20240304T080000
DTEND;TZID=Australia/Perth:20240304T170000
DTSTAMP:20260425T220218
CREATED:20240223T062741Z
LAST-MODIFIED:20240223T062741Z
UID:2884-1709539200-1709571600@vicparkps.wa.edu.au
SUMMARY:Labour Day Public Holiday
DESCRIPTION:
URL:https://vicparkps.wa.edu.au/calendar/labour-day-public-holiday/
CATEGORIES:Term Dates & Public Holidays
END:VEVENT
END:VCALENDAR