BEGIN:VCALENDAR
VERSION:2.0
PRODID:-//Victoria Park Primary School - ECPv6.15.16.1//NONSGML v1.0//EN
CALSCALE:GREGORIAN
METHOD:PUBLISH
X-WR-CALNAME:Victoria Park Primary School
X-ORIGINAL-URL:https://vicparkps.wa.edu.au
X-WR-CALDESC:Events for Victoria Park Primary School
REFRESH-INTERVAL;VALUE=DURATION:PT1H
X-Robots-Tag:noindex
X-PUBLISHED-TTL:PT1H
BEGIN:VTIMEZONE
TZID:Australia/Perth
BEGIN:STANDARD
TZOFFSETFROM:+0800
TZOFFSETTO:+0800
TZNAME:AWST
DTSTART:20230101T000000
END:STANDARD
END:VTIMEZONE
BEGIN:VEVENT
DTSTART;VALUE=DATE:20240911
DTEND;VALUE=DATE:20240912
DTSTAMP:20260424T073606
CREATED:20240313T062633Z
LAST-MODIFIED:20240313T062633Z
UID:3074-1726012800-1726099199@vicparkps.wa.edu.au
SUMMARY:Interschool Jumps\, Throws & 400m back-up date
DESCRIPTION:
URL:https://vicparkps.wa.edu.au/calendar/interschool-jumps-throws-400m-back-up-date/
CATEGORIES:Activities & Events
END:VEVENT
BEGIN:VEVENT
DTSTART;TZID=Australia/Perth:20240910T111500
DTEND;TZID=Australia/Perth:20240910T111500
DTSTAMP:20260424T073606
CREATED:20240313T062205Z
LAST-MODIFIED:20240313T062205Z
UID:3071-1725966900-1725966900@vicparkps.wa.edu.au
SUMMARY:MCF Choir Rehearsal - Churchland SHS
DESCRIPTION:
URL:https://vicparkps.wa.edu.au/calendar/mcf-choir-rehearsal-churchland-shs/
CATEGORIES:Activities & Events
END:VEVENT
BEGIN:VEVENT
DTSTART;VALUE=DATE:20240910
DTEND;VALUE=DATE:20240911
DTSTAMP:20260424T073606
CREATED:20240313T060621Z
LAST-MODIFIED:20240313T060621Z
UID:3069-1725926400-1726012799@vicparkps.wa.edu.au
SUMMARY:Interschool Jumps\, Throws & 400m
DESCRIPTION:
URL:https://vicparkps.wa.edu.au/calendar/interschool-jumps-throws-400m/
CATEGORIES:Activities & Events
END:VEVENT
BEGIN:VEVENT
DTSTART;VALUE=DATE:20240910
DTEND;VALUE=DATE:20240911
DTSTAMP:20260424T073606
CREATED:20240313T055047Z
LAST-MODIFIED:20240313T055047Z
UID:3057-1725926400-1726012799@vicparkps.wa.edu.au
SUMMARY:Newsletter
DESCRIPTION:
URL:https://vicparkps.wa.edu.au/calendar/newsletter-15/
CATEGORIES:Other
END:VEVENT
BEGIN:VEVENT
DTSTART;VALUE=DATE:20240909
DTEND;VALUE=DATE:20240910
DTSTAMP:20260424T073606
CREATED:20240718T045330Z
LAST-MODIFIED:20240718T045330Z
UID:3411-1725840000-1725926399@vicparkps.wa.edu.au
SUMMARY:Constable Care Incursion (Year 5 & 6)
DESCRIPTION:
URL:https://vicparkps.wa.edu.au/calendar/constable-care-incursion-year-5-6-2/
CATEGORIES:Activities & Events
END:VEVENT
BEGIN:VEVENT
DTSTART;VALUE=DATE:20240909
DTEND;VALUE=DATE:20240910
DTSTAMP:20260424T073606
CREATED:20240620T034724Z
LAST-MODIFIED:20240620T034724Z
UID:3371-1725840000-1725926399@vicparkps.wa.edu.au
SUMMARY:Constable Care Incursion Year 5-6
DESCRIPTION:
URL:https://vicparkps.wa.edu.au/calendar/constable-care-incursion-year-5-6/
CATEGORIES:Activities & Events
END:VEVENT
BEGIN:VEVENT
DTSTART;TZID=Australia/Perth:20240906T085000
DTEND;TZID=Australia/Perth:20240906T093000
DTSTAMP:20260424T073606
CREATED:20240313T031830Z
LAST-MODIFIED:20240313T031830Z
UID:3002-1725612600-1725615000@vicparkps.wa.edu.au
SUMMARY:Assembly - Room 15
DESCRIPTION:
URL:https://vicparkps.wa.edu.au/calendar/assembly-room-15/
CATEGORIES:Activities & Events
END:VEVENT
BEGIN:VEVENT
DTSTART;TZID=Australia/Perth:20240905T173000
DTEND;TZID=Australia/Perth:20240905T190000
DTSTAMP:20260424T073606
CREATED:20240619T034438Z
LAST-MODIFIED:20240718T043342Z
UID:3364-1725557400-1725562800@vicparkps.wa.edu.au
SUMMARY:Open Night
DESCRIPTION:
URL:https://vicparkps.wa.edu.au/calendar/open-night/
CATEGORIES:Activities & Events
END:VEVENT
BEGIN:VEVENT
DTSTART;TZID=Australia/Perth:20240905T073000
DTEND;TZID=Australia/Perth:20240905T084500
DTSTAMP:20260424T073606
CREATED:20240313T060529Z
LAST-MODIFIED:20240313T060529Z
UID:3067-1725521400-1725525900@vicparkps.wa.edu.au
SUMMARY:School Board Meeting
DESCRIPTION:
URL:https://vicparkps.wa.edu.au/calendar/school-board-meeting-6/
CATEGORIES:P&C and School Board
END:VEVENT
BEGIN:VEVENT
DTSTART;TZID=Australia/Perth:20240904T074500
DTEND;TZID=Australia/Perth:20240904T081500
DTSTAMP:20260424T073606
CREATED:20240619T033616Z
LAST-MODIFIED:20240625T035214Z
UID:3354-1725435900-1725437700@vicparkps.wa.edu.au
SUMMARY:Run Club
DESCRIPTION:
URL:https://vicparkps.wa.edu.au/calendar/run-club-8/
CATEGORIES:Activities & Events
END:VEVENT
BEGIN:VEVENT
DTSTART;VALUE=DATE:20240830
DTEND;VALUE=DATE:20240831
DTSTAMP:20260424T073606
CREATED:20240516T054924Z
LAST-MODIFIED:20240516T054924Z
UID:3312-1724976000-1725062399@vicparkps.wa.edu.au
SUMMARY:Faction Carnival
DESCRIPTION:
URL:https://vicparkps.wa.edu.au/calendar/faction-carnival/
CATEGORIES:Activities & Events
END:VEVENT
BEGIN:VEVENT
DTSTART;TZID=Australia/Perth:20240828T074500
DTEND;TZID=Australia/Perth:20240828T081500
DTSTAMP:20260424T073606
CREATED:20240619T033535Z
LAST-MODIFIED:20240625T035224Z
UID:3352-1724831100-1724832900@vicparkps.wa.edu.au
SUMMARY:Run Club
DESCRIPTION:
URL:https://vicparkps.wa.edu.au/calendar/run-club-7/
CATEGORIES:Activities & Events
END:VEVENT
BEGIN:VEVENT
DTSTART;VALUE=DATE:20240827
DTEND;VALUE=DATE:20240828
DTSTAMP:20260424T073606
CREATED:20240619T034546Z
LAST-MODIFIED:20240619T034546Z
UID:3366-1724716800-1724803199@vicparkps.wa.edu.au
SUMMARY:Jumps and Throws
DESCRIPTION:
URL:https://vicparkps.wa.edu.au/calendar/jumps-and-throws/
CATEGORIES:Activities & Events
END:VEVENT
BEGIN:VEVENT
DTSTART;VALUE=DATE:20240827
DTEND;VALUE=DATE:20240828
DTSTAMP:20260424T073606
CREATED:20240313T055007Z
LAST-MODIFIED:20240313T055007Z
UID:3055-1724716800-1724803199@vicparkps.wa.edu.au
SUMMARY:Newsletter
DESCRIPTION:
URL:https://vicparkps.wa.edu.au/calendar/newsletter-14/
CATEGORIES:Other
END:VEVENT
BEGIN:VEVENT
DTSTART;VALUE=DATE:20240826
DTEND;VALUE=DATE:20240827
DTSTAMP:20260424T073606
CREATED:20240718T045238Z
LAST-MODIFIED:20240718T045238Z
UID:3409-1724630400-1724716799@vicparkps.wa.edu.au
SUMMARY:In Search of Safety Incursion (Rm 12 & 13)
DESCRIPTION:
URL:https://vicparkps.wa.edu.au/calendar/in-search-of-safety-incursion-rm-12-13/
CATEGORIES:Activities & Events
END:VEVENT
BEGIN:VEVENT
DTSTART;VALUE=DATE:20240826
DTEND;VALUE=DATE:20240831
DTSTAMP:20260424T073606
CREATED:20240718T044857Z
LAST-MODIFIED:20240718T044857Z
UID:3407-1724630400-1725062399@vicparkps.wa.edu.au
SUMMARY:ICAS - Maths
DESCRIPTION:
URL:https://vicparkps.wa.edu.au/calendar/icas-maths/
CATEGORIES:Activities & Events
END:VEVENT
BEGIN:VEVENT
DTSTART;TZID=Australia/Perth:20240823T085000
DTEND;TZID=Australia/Perth:20240823T093000
DTSTAMP:20260424T073606
CREATED:20240313T031529Z
LAST-MODIFIED:20240313T031529Z
UID:3000-1724403000-1724405400@vicparkps.wa.edu.au
SUMMARY:Assembly - Room 14
DESCRIPTION:
URL:https://vicparkps.wa.edu.au/calendar/assembly-room-14/
CATEGORIES:Activities & Events
END:VEVENT
BEGIN:VEVENT
DTSTART;VALUE=DATE:20240822
DTEND;VALUE=DATE:20240823
DTSTAMP:20260424T073606
CREATED:20240621T032857Z
LAST-MODIFIED:20240621T032857Z
UID:3377-1724284800-1724371199@vicparkps.wa.edu.au
SUMMARY:Book Week Parade
DESCRIPTION:
URL:https://vicparkps.wa.edu.au/calendar/book-week-parade/
CATEGORIES:Activities & Events
END:VEVENT
BEGIN:VEVENT
DTSTART;TZID=Australia/Perth:20240821T074500
DTEND;TZID=Australia/Perth:20240821T081500
DTSTAMP:20260424T073606
CREATED:20240619T033452Z
LAST-MODIFIED:20240625T035233Z
UID:3350-1724226300-1724228100@vicparkps.wa.edu.au
SUMMARY:Run Club
DESCRIPTION:
URL:https://vicparkps.wa.edu.au/calendar/run-club-6/
CATEGORIES:Activities & Events
END:VEVENT
BEGIN:VEVENT
DTSTART;VALUE=DATE:20240821
DTEND;VALUE=DATE:20240822
DTSTAMP:20260424T073606
CREATED:20240718T045702Z
LAST-MODIFIED:20240718T045702Z
UID:3415-1724198400-1724284799@vicparkps.wa.edu.au
SUMMARY:Vic Park Library Excursion (Rm 13 & 16)
DESCRIPTION:
URL:https://vicparkps.wa.edu.au/calendar/vic-park-library-excursion-rm-13-16/
CATEGORIES:Activities & Events
END:VEVENT
BEGIN:VEVENT
DTSTART;VALUE=DATE:20240820
DTEND;VALUE=DATE:20240824
DTSTAMP:20260424T073606
CREATED:20240718T044728Z
LAST-MODIFIED:20240718T044728Z
UID:3405-1724112000-1724457599@vicparkps.wa.edu.au
SUMMARY:ICAS - Science
DESCRIPTION:
URL:https://vicparkps.wa.edu.au/calendar/icas-science/
CATEGORIES:Activities & Events
END:VEVENT
BEGIN:VEVENT
DTSTART;VALUE=DATE:20240819
DTEND;VALUE=DATE:20240824
DTSTAMP:20260424T073606
CREATED:20240621T032301Z
LAST-MODIFIED:20240621T032301Z
UID:3375-1724025600-1724457599@vicparkps.wa.edu.au
SUMMARY:Book Week
DESCRIPTION:
URL:https://vicparkps.wa.edu.au/calendar/book-week/
CATEGORIES:Activities & Events
END:VEVENT
BEGIN:VEVENT
DTSTART;VALUE=DATE:20240819
DTEND;VALUE=DATE:20240820
DTSTAMP:20260424T073606
CREATED:20240313T060430Z
LAST-MODIFIED:20240313T060430Z
UID:3065-1724025600-1724111999@vicparkps.wa.edu.au
SUMMARY:School Development Day
DESCRIPTION:
URL:https://vicparkps.wa.edu.au/calendar/school-development-day-2/
CATEGORIES:Term Dates & Public Holidays
END:VEVENT
BEGIN:VEVENT
DTSTART;TZID=Australia/Perth:20240814T074500
DTEND;TZID=Australia/Perth:20240814T081500
DTSTAMP:20260424T073606
CREATED:20240619T033401Z
LAST-MODIFIED:20240625T035311Z
UID:3348-1723621500-1723623300@vicparkps.wa.edu.au
SUMMARY:Run Club
DESCRIPTION:
URL:https://vicparkps.wa.edu.au/calendar/run-club-5/
CATEGORIES:Activities & Events
END:VEVENT
BEGIN:VEVENT
DTSTART;VALUE=DATE:20240813
DTEND;VALUE=DATE:20240814
DTSTAMP:20260424T073606
CREATED:20240313T054933Z
LAST-MODIFIED:20240313T054933Z
UID:3053-1723507200-1723593599@vicparkps.wa.edu.au
SUMMARY:Newsletter
DESCRIPTION:
URL:https://vicparkps.wa.edu.au/calendar/newsletter-13/
CATEGORIES:Other
END:VEVENT
BEGIN:VEVENT
DTSTART;VALUE=DATE:20240812
DTEND;VALUE=DATE:20240817
DTSTAMP:20260424T073606
CREATED:20240718T044528Z
LAST-MODIFIED:20240718T044528Z
UID:3403-1723420800-1723852799@vicparkps.wa.edu.au
SUMMARY:ICAS - English
DESCRIPTION:
URL:https://vicparkps.wa.edu.au/calendar/icas-english/
CATEGORIES:Activities & Events
END:VEVENT
BEGIN:VEVENT
DTSTART;TZID=Australia/Perth:20240809T085000
DTEND;TZID=Australia/Perth:20240809T093000
DTSTAMP:20260424T073606
CREATED:20240313T031449Z
LAST-MODIFIED:20240313T031449Z
UID:2998-1723193400-1723195800@vicparkps.wa.edu.au
SUMMARY:Assembly - Room 3
DESCRIPTION:
URL:https://vicparkps.wa.edu.au/calendar/assembly-room-3/
CATEGORIES:Activities & Events
END:VEVENT
BEGIN:VEVENT
DTSTART;VALUE=DATE:20240809
DTEND;VALUE=DATE:20240810
DTSTAMP:20260424T073606
CREATED:20240718T043831Z
LAST-MODIFIED:20240718T043831Z
UID:3395-1723161600-1723247999@vicparkps.wa.edu.au
SUMMARY:Year 3-6 Athletics Practice
DESCRIPTION:
URL:https://vicparkps.wa.edu.au/calendar/year-3-6-athletics-practice-3/
CATEGORIES:Activities & Events
END:VEVENT
BEGIN:VEVENT
DTSTART;TZID=Australia/Perth:20240808T084500
DTEND;TZID=Australia/Perth:20240808T093000
DTSTAMP:20260424T073606
CREATED:20240718T044309Z
LAST-MODIFIED:20240723T032636Z
UID:3399-1723106700-1723109400@vicparkps.wa.edu.au
SUMMARY:Thursday Tea & Talk
DESCRIPTION:
URL:https://vicparkps.wa.edu.au/calendar/thursday-tea-talk-3/
CATEGORIES:Activities & Events
END:VEVENT
BEGIN:VEVENT
DTSTART;TZID=Australia/Perth:20240807T074500
DTEND;TZID=Australia/Perth:20240807T081500
DTSTAMP:20260424T073606
CREATED:20240619T033329Z
LAST-MODIFIED:20240625T035319Z
UID:3346-1723016700-1723018500@vicparkps.wa.edu.au
SUMMARY:Run Club
DESCRIPTION:
URL:https://vicparkps.wa.edu.au/calendar/run-club-4/
CATEGORIES:Activities & Events
END:VEVENT
END:VCALENDAR