BEGIN:VCALENDAR
VERSION:2.0
PRODID:-//Victoria Park Primary School - ECPv6.15.16.1//NONSGML v1.0//EN
CALSCALE:GREGORIAN
METHOD:PUBLISH
X-ORIGINAL-URL:https://vicparkps.wa.edu.au
X-WR-CALDESC:Events for Victoria Park Primary School
REFRESH-INTERVAL;VALUE=DURATION:PT1H
X-Robots-Tag:noindex
X-PUBLISHED-TTL:PT1H
BEGIN:VTIMEZONE
TZID:Australia/Perth
BEGIN:STANDARD
TZOFFSETFROM:+0800
TZOFFSETTO:+0800
TZNAME:AWST
DTSTART:20250101T000000
END:STANDARD
END:VTIMEZONE
BEGIN:VEVENT
DTSTART;VALUE=DATE:20260911
DTEND;VALUE=DATE:20260912
DTSTAMP:20260423T182204
CREATED:20251205T013818Z
LAST-MODIFIED:20251205T013818Z
UID:4252-1789084800-1789171199@vicparkps.wa.edu.au
SUMMARY:Faction Athletics Carnival
DESCRIPTION:
URL:https://vicparkps.wa.edu.au/calendar/faction-athletics-carnival/
CATEGORIES:Activities & Events
END:VEVENT
BEGIN:VEVENT
DTSTART;VALUE=DATE:20260915
DTEND;VALUE=DATE:20260916
DTSTAMP:20260423T182204
CREATED:20251205T013933Z
LAST-MODIFIED:20251205T013933Z
UID:4254-1789430400-1789516799@vicparkps.wa.edu.au
SUMMARY:Interschool Jumps and Throws
DESCRIPTION:
URL:https://vicparkps.wa.edu.au/calendar/interschool-jumps-and-throws/
CATEGORIES:Activities & Events
END:VEVENT
BEGIN:VEVENT
DTSTART;VALUE=DATE:20260917
DTEND;VALUE=DATE:20260918
DTSTAMP:20260423T182204
CREATED:20251110T054930Z
LAST-MODIFIED:20251110T054930Z
UID:4183-1789603200-1789689599@vicparkps.wa.edu.au
SUMMARY:Run Club
DESCRIPTION:
URL:https://vicparkps.wa.edu.au/calendar/run-club-41/
CATEGORIES:Activities & Events
END:VEVENT
BEGIN:VEVENT
DTSTART;VALUE=DATE:20260917
DTEND;VALUE=DATE:20260918
DTSTAMP:20260423T182204
CREATED:20251205T014020Z
LAST-MODIFIED:20251205T014020Z
UID:4256-1789603200-1789689599@vicparkps.wa.edu.au
SUMMARY:Interschool Athletics Carnival
DESCRIPTION:
URL:https://vicparkps.wa.edu.au/calendar/interschool-athletics-carnival-2/
CATEGORIES:Activities & Events
END:VEVENT
BEGIN:VEVENT
DTSTART;VALUE=DATE:20260922
DTEND;VALUE=DATE:20260923
DTSTAMP:20260423T182204
CREATED:20251104T025048Z
LAST-MODIFIED:20251104T025048Z
UID:4060-1790035200-1790121599@vicparkps.wa.edu.au
SUMMARY:Newsletter
DESCRIPTION:
URL:https://vicparkps.wa.edu.au/calendar/newsletter-39/
CATEGORIES:Other
END:VEVENT
BEGIN:VEVENT
DTSTART;VALUE=DATE:20260922
DTEND;VALUE=DATE:20260923
DTSTAMP:20260423T182204
CREATED:20251104T032934Z
LAST-MODIFIED:20251104T033032Z
UID:4116-1790035200-1790121599@vicparkps.wa.edu.au
SUMMARY:St John Ambulance First Aid Incursion K-Yr6
DESCRIPTION:
URL:https://vicparkps.wa.edu.au/calendar/st-john-ambulance-first-aid-incursion-year-1-6/
CATEGORIES:Activities & Events
END:VEVENT
BEGIN:VEVENT
DTSTART;VALUE=DATE:20260923
DTEND;VALUE=DATE:20260924
DTSTAMP:20260423T182204
CREATED:20251104T032955Z
LAST-MODIFIED:20251104T033040Z
UID:4118-1790121600-1790207999@vicparkps.wa.edu.au
SUMMARY:St John Ambulance First Aid Incursion K-Yr6
DESCRIPTION:
URL:https://vicparkps.wa.edu.au/calendar/st-john-ambulance-first-aid-incursion-year-1-6-2/
CATEGORIES:Activities & Events
END:VEVENT
BEGIN:VEVENT
DTSTART;VALUE=DATE:20260924
DTEND;VALUE=DATE:20260925
DTSTAMP:20260423T182204
CREATED:20251104T033005Z
LAST-MODIFIED:20251104T033046Z
UID:4119-1790208000-1790294399@vicparkps.wa.edu.au
SUMMARY:St John Ambulance First Aid Incursion K-Yr6
DESCRIPTION:
URL:https://vicparkps.wa.edu.au/calendar/st-john-ambulance-first-aid-incursion-year-1-6-3/
CATEGORIES:Activities & Events
END:VEVENT
BEGIN:VEVENT
DTSTART;VALUE=DATE:20260924
DTEND;VALUE=DATE:20260925
DTSTAMP:20260423T182204
CREATED:20251110T055006Z
LAST-MODIFIED:20251110T055006Z
UID:4188-1790208000-1790294399@vicparkps.wa.edu.au
SUMMARY:Run Club
DESCRIPTION:
URL:https://vicparkps.wa.edu.au/calendar/run-club-42/
CATEGORIES:Activities & Events
END:VEVENT
BEGIN:VEVENT
DTSTART;VALUE=DATE:20260925
DTEND;VALUE=DATE:20260926
DTSTAMP:20260423T182204
CREATED:20251104T025637Z
LAST-MODIFIED:20251104T025637Z
UID:4071-1790294400-1790380799@vicparkps.wa.edu.au
SUMMARY:Last Day of Term 3
DESCRIPTION:
URL:https://vicparkps.wa.edu.au/calendar/last-day-of-term-3-3/
CATEGORIES:Term Dates & Public Holidays
END:VEVENT
BEGIN:VEVENT
DTSTART;VALUE=DATE:20260925
DTEND;VALUE=DATE:20260926
DTSTAMP:20260423T182204
CREATED:20251104T033104Z
LAST-MODIFIED:20251104T033104Z
UID:4120-1790294400-1790380799@vicparkps.wa.edu.au
SUMMARY:St John Ambulance First Aid Incursion K-Yr6
DESCRIPTION:
URL:https://vicparkps.wa.edu.au/calendar/st-john-ambulance-first-aid-incursion-k-yr6/
CATEGORIES:Activities & Events
END:VEVENT
BEGIN:VEVENT
DTSTART;VALUE=DATE:20260926
DTEND;VALUE=DATE:20261012
DTSTAMP:20260423T182204
CREATED:20251104T025922Z
LAST-MODIFIED:20251104T025922Z
UID:4072-1790380800-1791763199@vicparkps.wa.edu.au
SUMMARY:School Holidays
DESCRIPTION:
URL:https://vicparkps.wa.edu.au/calendar/school-holidays-9/
CATEGORIES:Term Dates & Public Holidays
END:VEVENT
BEGIN:VEVENT
DTSTART;VALUE=DATE:20261012
DTEND;VALUE=DATE:20261013
DTSTAMP:20260423T182204
CREATED:20251104T030036Z
LAST-MODIFIED:20251104T030036Z
UID:4073-1791763200-1791849599@vicparkps.wa.edu.au
SUMMARY:First Day of Term 4
DESCRIPTION:
URL:https://vicparkps.wa.edu.au/calendar/first-day-of-term-4-3/
CATEGORIES:Term Dates & Public Holidays
END:VEVENT
BEGIN:VEVENT
DTSTART;VALUE=DATE:20261020
DTEND;VALUE=DATE:20261021
DTSTAMP:20260423T182204
CREATED:20251104T030053Z
LAST-MODIFIED:20251104T030053Z
UID:4081-1792454400-1792540799@vicparkps.wa.edu.au
SUMMARY:Newsletter
DESCRIPTION:
URL:https://vicparkps.wa.edu.au/calendar/newsletter-40/
CATEGORIES:Other
END:VEVENT
BEGIN:VEVENT
DTSTART;VALUE=DATE:20261022
DTEND;VALUE=DATE:20261023
DTSTAMP:20260423T182204
CREATED:20251110T055039Z
LAST-MODIFIED:20251110T055039Z
UID:4190-1792627200-1792713599@vicparkps.wa.edu.au
SUMMARY:Run Club
DESCRIPTION:
URL:https://vicparkps.wa.edu.au/calendar/run-club-44/
CATEGORIES:Activities & Events
END:VEVENT
BEGIN:VEVENT
DTSTART;VALUE=DATE:20261029
DTEND;VALUE=DATE:20261030
DTSTAMP:20260423T182204
CREATED:20251110T055047Z
LAST-MODIFIED:20251110T055047Z
UID:4191-1793232000-1793318399@vicparkps.wa.edu.au
SUMMARY:Run Club
DESCRIPTION:
URL:https://vicparkps.wa.edu.au/calendar/run-club-45/
CATEGORIES:Activities & Events
END:VEVENT
BEGIN:VEVENT
DTSTART;TZID=Australia/Perth:20261029T073000
DTEND;TZID=Australia/Perth:20261029T083000
DTSTAMP:20260423T182204
CREATED:20251104T030556Z
LAST-MODIFIED:20251104T030556Z
UID:4086-1793259000-1793262600@vicparkps.wa.edu.au
SUMMARY:School Board Meeting
DESCRIPTION:
URL:https://vicparkps.wa.edu.au/calendar/school-board-meeting-19/
CATEGORIES:P&C and School Board
END:VEVENT
BEGIN:VEVENT
DTSTART;VALUE=DATE:20261030
DTEND;VALUE=DATE:20261031
DTSTAMP:20260423T182204
CREATED:20251104T030629Z
LAST-MODIFIED:20251104T031854Z
UID:4088-1793318400-1793404799@vicparkps.wa.edu.au
SUMMARY:World Teachers Day
DESCRIPTION:
URL:https://vicparkps.wa.edu.au/calendar/world-teachers-day-3/
CATEGORIES:Activities & Events
END:VEVENT
BEGIN:VEVENT
DTSTART;VALUE=DATE:20261103
DTEND;VALUE=DATE:20261104
DTSTAMP:20260423T182204
CREATED:20251104T030203Z
LAST-MODIFIED:20251104T030203Z
UID:4082-1793664000-1793750399@vicparkps.wa.edu.au
SUMMARY:Newsletter
DESCRIPTION:
URL:https://vicparkps.wa.edu.au/calendar/newsletter-41/
CATEGORIES:Other
END:VEVENT
BEGIN:VEVENT
DTSTART;VALUE=DATE:20261105
DTEND;VALUE=DATE:20261106
DTSTAMP:20260423T182204
CREATED:20251110T055102Z
LAST-MODIFIED:20251110T055102Z
UID:4193-1793836800-1793923199@vicparkps.wa.edu.au
SUMMARY:Run Club
DESCRIPTION:
URL:https://vicparkps.wa.edu.au/calendar/run-club-46/
CATEGORIES:Activities & Events
END:VEVENT
BEGIN:VEVENT
DTSTART;VALUE=DATE:20261106
DTEND;VALUE=DATE:20261107
DTSTAMP:20260423T182204
CREATED:20251104T030650Z
LAST-MODIFIED:20251104T030650Z
UID:4089-1793923200-1794009599@vicparkps.wa.edu.au
SUMMARY:School Development Day
DESCRIPTION:
URL:https://vicparkps.wa.edu.au/calendar/school-development-day-9/
CATEGORIES:Term Dates & Public Holidays
END:VEVENT
BEGIN:VEVENT
DTSTART;VALUE=DATE:20261112
DTEND;VALUE=DATE:20261113
DTSTAMP:20260423T182204
CREATED:20251110T055112Z
LAST-MODIFIED:20251110T055112Z
UID:4194-1794441600-1794527999@vicparkps.wa.edu.au
SUMMARY:Run Club
DESCRIPTION:
URL:https://vicparkps.wa.edu.au/calendar/run-club-47/
CATEGORIES:Activities & Events
END:VEVENT
BEGIN:VEVENT
DTSTART;VALUE=DATE:20261113
DTEND;VALUE=DATE:20261114
DTSTAMP:20260423T182204
CREATED:20251104T030758Z
LAST-MODIFIED:20251104T030758Z
UID:4100-1794528000-1794614399@vicparkps.wa.edu.au
SUMMARY:2027 Kindy Parent Information Meeting
DESCRIPTION:
URL:https://vicparkps.wa.edu.au/calendar/2027-kindy-parent-information-meeting/
CATEGORIES:Activities & Events
END:VEVENT
BEGIN:VEVENT
DTSTART;VALUE=DATE:20261117
DTEND;VALUE=DATE:20261118
DTSTAMP:20260423T182204
CREATED:20251104T030307Z
LAST-MODIFIED:20251104T030307Z
UID:4083-1794873600-1794959999@vicparkps.wa.edu.au
SUMMARY:Newsletter
DESCRIPTION:
URL:https://vicparkps.wa.edu.au/calendar/newsletter-42/
CATEGORIES:Other
END:VEVENT
BEGIN:VEVENT
DTSTART;VALUE=DATE:20261118
DTEND;VALUE=DATE:20261119
DTSTAMP:20260423T182204
CREATED:20251104T030818Z
LAST-MODIFIED:20251104T030818Z
UID:4101-1794960000-1795046399@vicparkps.wa.edu.au
SUMMARY:2027 Kindy Orientation
DESCRIPTION:
URL:https://vicparkps.wa.edu.au/calendar/2027-kindy-orientation/
CATEGORIES:Activities & Events
END:VEVENT
BEGIN:VEVENT
DTSTART;VALUE=DATE:20261119
DTEND;VALUE=DATE:20261120
DTSTAMP:20260423T182204
CREATED:20251110T055130Z
LAST-MODIFIED:20251110T055130Z
UID:4195-1795046400-1795132799@vicparkps.wa.edu.au
SUMMARY:FINAL Run Club
DESCRIPTION:
URL:https://vicparkps.wa.edu.au/calendar/final-run-club/
CATEGORIES:Activities & Events
END:VEVENT
BEGIN:VEVENT
DTSTART;VALUE=DATE:20261120
DTEND;VALUE=DATE:20261121
DTSTAMP:20260423T182204
CREATED:20251205T014333Z
LAST-MODIFIED:20251205T014832Z
UID:4259-1795132800-1795219199@vicparkps.wa.edu.au
SUMMARY:Faction Swimming Carnival
DESCRIPTION:
URL:https://vicparkps.wa.edu.au/calendar/faction-swimming-carnival/
CATEGORIES:Activities & Events
END:VEVENT
BEGIN:VEVENT
DTSTART;VALUE=DATE:20261201
DTEND;VALUE=DATE:20261202
DTSTAMP:20260423T182204
CREATED:20251104T030331Z
LAST-MODIFIED:20251104T030331Z
UID:4084-1796083200-1796169599@vicparkps.wa.edu.au
SUMMARY:Newsletter
DESCRIPTION:
URL:https://vicparkps.wa.edu.au/calendar/newsletter-43/
CATEGORIES:Other
END:VEVENT
BEGIN:VEVENT
DTSTART;TZID=Australia/Perth:20261203T073000
DTEND;TZID=Australia/Perth:20261203T083000
DTSTAMP:20260423T182204
CREATED:20251104T030614Z
LAST-MODIFIED:20251104T030614Z
UID:4087-1796283000-1796286600@vicparkps.wa.edu.au
SUMMARY:School Board Meeting
DESCRIPTION:
URL:https://vicparkps.wa.edu.au/calendar/school-board-meeting-20/
CATEGORIES:P&C and School Board
END:VEVENT
BEGIN:VEVENT
DTSTART;VALUE=DATE:20261204
DTEND;VALUE=DATE:20261205
DTSTAMP:20260423T182204
CREATED:20251205T014427Z
LAST-MODIFIED:20251205T014434Z
UID:4261-1796342400-1796428799@vicparkps.wa.edu.au
SUMMARY:Reports Home
DESCRIPTION:
URL:https://vicparkps.wa.edu.au/calendar/reports-home-4/
CATEGORIES:Other
END:VEVENT
END:VCALENDAR