BEGIN:VCALENDAR
VERSION:2.0
PRODID:-//Victoria Park Primary School - ECPv6.15.16.1//NONSGML v1.0//EN
CALSCALE:GREGORIAN
METHOD:PUBLISH
X-WR-CALNAME:Victoria Park Primary School
X-ORIGINAL-URL:https://vicparkps.wa.edu.au
X-WR-CALDESC:Events for Victoria Park Primary School
REFRESH-INTERVAL;VALUE=DURATION:PT1H
X-Robots-Tag:noindex
X-PUBLISHED-TTL:PT1H
BEGIN:VTIMEZONE
TZID:Australia/Perth
BEGIN:STANDARD
TZOFFSETFROM:+0800
TZOFFSETTO:+0800
TZNAME:AWST
DTSTART:20240101T000000
END:STANDARD
END:VTIMEZONE
BEGIN:VEVENT
DTSTART;TZID=Australia/Perth:20251114T085000
DTEND;TZID=Australia/Perth:20251114T093000
DTSTAMP:20260423T154824
CREATED:20250724T033659Z
LAST-MODIFIED:20250724T033727Z
UID:3819-1763110200-1763112600@vicparkps.wa.edu.au
SUMMARY:Assembly - Room 9
DESCRIPTION:Aussie of the Month
URL:https://vicparkps.wa.edu.au/calendar/assembly-room-9/
CATEGORIES:Activities & Events
END:VEVENT
BEGIN:VEVENT
DTSTART;VALUE=DATE:20251114
DTEND;VALUE=DATE:20251115
DTSTAMP:20260423T154824
CREATED:20251014T024250Z
LAST-MODIFIED:20251014T024250Z
UID:3904-1763078400-1763164799@vicparkps.wa.edu.au
SUMMARY:2026 Kindy Parent Meeting
DESCRIPTION:
URL:https://vicparkps.wa.edu.au/calendar/2026-kindy-parent-meeting/
CATEGORIES:Activities & Events
END:VEVENT
BEGIN:VEVENT
DTSTART;VALUE=DATE:20251112
DTEND;VALUE=DATE:20251113
DTSTAMP:20260423T154824
CREATED:20251014T024123Z
LAST-MODIFIED:20251014T024123Z
UID:3898-1762905600-1762991999@vicparkps.wa.edu.au
SUMMARY:Interschool cricket competition
DESCRIPTION:
URL:https://vicparkps.wa.edu.au/calendar/interschool-cricket-competition/
CATEGORIES:Activities & Events
END:VEVENT
BEGIN:VEVENT
DTSTART;VALUE=DATE:20251112
DTEND;VALUE=DATE:20251113
DTSTAMP:20260423T154824
CREATED:20250724T031051Z
LAST-MODIFIED:20250724T031051Z
UID:3801-1762905600-1762991999@vicparkps.wa.edu.au
SUMMARY:Year 5/6 Dance
DESCRIPTION:
URL:https://vicparkps.wa.edu.au/calendar/year-5-6-dance-4/
CATEGORIES:Activities & Events
END:VEVENT
BEGIN:VEVENT
DTSTART;VALUE=DATE:20251111
DTEND;VALUE=DATE:20251112
DTSTAMP:20260423T154824
CREATED:20251014T024056Z
LAST-MODIFIED:20251014T024056Z
UID:3896-1762819200-1762905599@vicparkps.wa.edu.au
SUMMARY:Year 5 Speeches
DESCRIPTION:
URL:https://vicparkps.wa.edu.au/calendar/year-5-speeches-2/
CATEGORIES:Activities & Events
END:VEVENT
BEGIN:VEVENT
DTSTART;VALUE=DATE:20251110
DTEND;VALUE=DATE:20251111
DTSTAMP:20260423T154824
CREATED:20251014T024033Z
LAST-MODIFIED:20251014T024033Z
UID:3894-1762732800-1762819199@vicparkps.wa.edu.au
SUMMARY:Year 5 Speeches
DESCRIPTION:
URL:https://vicparkps.wa.edu.au/calendar/year-5-speeches/
CATEGORIES:Activities & Events
END:VEVENT
BEGIN:VEVENT
DTSTART;VALUE=DATE:20251107
DTEND;VALUE=DATE:20251108
DTSTAMP:20260423T154824
CREATED:20250724T032757Z
LAST-MODIFIED:20250724T032757Z
UID:3817-1762473600-1762559999@vicparkps.wa.edu.au
SUMMARY:SCHOOL DEVELOPMENT DAY
DESCRIPTION:
URL:https://vicparkps.wa.edu.au/calendar/school-development-day-5/
CATEGORIES:Term Dates & Public Holidays
END:VEVENT
BEGIN:VEVENT
DTSTART;VALUE=DATE:20251105
DTEND;VALUE=DATE:20251106
DTSTAMP:20260423T154824
CREATED:20250724T031020Z
LAST-MODIFIED:20250724T031020Z
UID:3799-1762300800-1762387199@vicparkps.wa.edu.au
SUMMARY:Year 5/6 Dance
DESCRIPTION:
URL:https://vicparkps.wa.edu.au/calendar/year-5-6-dance-3/
CATEGORIES:Activities & Events
END:VEVENT
BEGIN:VEVENT
DTSTART;VALUE=DATE:20251104
DTEND;VALUE=DATE:20251105
DTSTAMP:20260423T154824
CREATED:20251016T040315Z
LAST-MODIFIED:20251016T040315Z
UID:3941-1762214400-1762300799@vicparkps.wa.edu.au
SUMMARY:Newsletter
DESCRIPTION:
URL:https://vicparkps.wa.edu.au/calendar/newsletter-22/
CATEGORIES:Activities & Events
END:VEVENT
BEGIN:VEVENT
DTSTART;VALUE=DATE:20251102
DTEND;VALUE=DATE:20251103
DTSTAMP:20260423T154824
CREATED:20251014T024216Z
LAST-MODIFIED:20251014T024216Z
UID:3902-1762041600-1762127999@vicparkps.wa.edu.au
SUMMARY:Carwash (Year 6 Grad)
DESCRIPTION:
URL:https://vicparkps.wa.edu.au/calendar/carwash-year-6-grad-2/
CATEGORIES:Activities & Events
END:VEVENT
BEGIN:VEVENT
DTSTART;VALUE=DATE:20251101
DTEND;VALUE=DATE:20251102
DTSTAMP:20260423T154824
CREATED:20251014T024157Z
LAST-MODIFIED:20251014T024157Z
UID:3900-1761955200-1762041599@vicparkps.wa.edu.au
SUMMARY:Carwash (Year 6 Grad)
DESCRIPTION:
URL:https://vicparkps.wa.edu.au/calendar/carwash-year-6-grad/
CATEGORIES:Activities & Events
END:VEVENT
BEGIN:VEVENT
DTSTART;TZID=Australia/Perth:20251031T085000
DTEND;TZID=Australia/Perth:20251031T093000
DTSTAMP:20260423T154824
CREATED:20250724T032716Z
LAST-MODIFIED:20250724T032716Z
UID:3815-1761900600-1761903000@vicparkps.wa.edu.au
SUMMARY:Assembly - ICAS/AMC
DESCRIPTION:
URL:https://vicparkps.wa.edu.au/calendar/assembly-icas-amc/
CATEGORIES:Activities & Events
END:VEVENT
BEGIN:VEVENT
DTSTART;VALUE=DATE:20251031
DTEND;VALUE=DATE:20251101
DTSTAMP:20260423T154824
CREATED:20251014T025008Z
LAST-MODIFIED:20251014T025008Z
UID:3908-1761868800-1761955199@vicparkps.wa.edu.au
SUMMARY:World Teachers Day
DESCRIPTION:
URL:https://vicparkps.wa.edu.au/calendar/world-teachers-day-2/
CATEGORIES:Other
END:VEVENT
BEGIN:VEVENT
DTSTART;TZID=Australia/Perth:20251030T073000
DTEND;TZID=Australia/Perth:20251030T083000
DTSTAMP:20260423T154825
CREATED:20250724T032624Z
LAST-MODIFIED:20250724T032624Z
UID:3813-1761809400-1761813000@vicparkps.wa.edu.au
SUMMARY:School Board Meeting
DESCRIPTION:
URL:https://vicparkps.wa.edu.au/calendar/school-board-meeting-11/
CATEGORIES:P&C and School Board
END:VEVENT
BEGIN:VEVENT
DTSTART;VALUE=DATE:20251030
DTEND;VALUE=DATE:20251031
DTSTAMP:20260423T154825
CREATED:20251014T023851Z
LAST-MODIFIED:20251014T023851Z
UID:3890-1761782400-1761868799@vicparkps.wa.edu.au
SUMMARY:Vic Park's Got Talent FINAL
DESCRIPTION:
URL:https://vicparkps.wa.edu.au/calendar/vic-parks-got-talent-final/
CATEGORIES:Activities & Events
END:VEVENT
BEGIN:VEVENT
DTSTART;VALUE=DATE:20251029
DTEND;VALUE=DATE:20251030
DTSTAMP:20260423T154825
CREATED:20251014T023832Z
LAST-MODIFIED:20251014T023832Z
UID:3888-1761696000-1761782399@vicparkps.wa.edu.au
SUMMARY:Vic Park's Got Talent
DESCRIPTION:
URL:https://vicparkps.wa.edu.au/calendar/vic-parks-got-talent-5/
CATEGORIES:Activities & Events
END:VEVENT
BEGIN:VEVENT
DTSTART;VALUE=DATE:20251029
DTEND;VALUE=DATE:20251030
DTSTAMP:20260423T154825
CREATED:20250724T030949Z
LAST-MODIFIED:20250724T030949Z
UID:3797-1761696000-1761782399@vicparkps.wa.edu.au
SUMMARY:Year 5/6 Dance
DESCRIPTION:
URL:https://vicparkps.wa.edu.au/calendar/year-5-6-dance-2/
CATEGORIES:Activities & Events
END:VEVENT
BEGIN:VEVENT
DTSTART;VALUE=DATE:20251028
DTEND;VALUE=DATE:20251029
DTSTAMP:20260423T154825
CREATED:20251014T023817Z
LAST-MODIFIED:20251014T023817Z
UID:3886-1761609600-1761695999@vicparkps.wa.edu.au
SUMMARY:Vic Park's Got Talent
DESCRIPTION:
URL:https://vicparkps.wa.edu.au/calendar/vic-parks-got-talent-4/
CATEGORIES:Activities & Events
END:VEVENT
BEGIN:VEVENT
DTSTART;VALUE=DATE:20251027
DTEND;VALUE=DATE:20251028
DTSTAMP:20260423T154825
CREATED:20251014T025852Z
LAST-MODIFIED:20251014T025852Z
UID:3929-1761523200-1761609599@vicparkps.wa.edu.au
SUMMARY:KSSHS visit
DESCRIPTION:Only for students attending KSSHS in 2026)
URL:https://vicparkps.wa.edu.au/calendar/ksshs-visit/
CATEGORIES:Activities & Events
END:VEVENT
BEGIN:VEVENT
DTSTART;VALUE=DATE:20251027
DTEND;VALUE=DATE:20251028
DTSTAMP:20260423T154825
CREATED:20250724T032518Z
LAST-MODIFIED:20250724T032518Z
UID:3811-1761523200-1761609599@vicparkps.wa.edu.au
SUMMARY:Intergenerational Music Experience
DESCRIPTION:
URL:https://vicparkps.wa.edu.au/calendar/intergenerational-music-experience-11/
CATEGORIES:Activities & Events
END:VEVENT
BEGIN:VEVENT
DTSTART;VALUE=DATE:20251024
DTEND;VALUE=DATE:20251025
DTSTAMP:20260423T154825
CREATED:20251014T023939Z
LAST-MODIFIED:20251021T015619Z
UID:3892-1761264000-1761350399@vicparkps.wa.edu.au
SUMMARY:Graduation Photo
DESCRIPTION:
URL:https://vicparkps.wa.edu.au/calendar/graduation-photo/
CATEGORIES:Activities & Events
END:VEVENT
BEGIN:VEVENT
DTSTART;VALUE=DATE:20251023
DTEND;VALUE=DATE:20251024
DTSTAMP:20260423T154825
CREATED:20251014T023755Z
LAST-MODIFIED:20251014T023755Z
UID:3884-1761177600-1761263999@vicparkps.wa.edu.au
SUMMARY:Vic Park's Got Talent
DESCRIPTION:
URL:https://vicparkps.wa.edu.au/calendar/vic-parks-got-talent-3/
CATEGORIES:Activities & Events
END:VEVENT
BEGIN:VEVENT
DTSTART;VALUE=DATE:20251022
DTEND;VALUE=DATE:20251023
DTSTAMP:20260423T154825
CREATED:20251014T023736Z
LAST-MODIFIED:20251014T023736Z
UID:3882-1761091200-1761177599@vicparkps.wa.edu.au
SUMMARY:Vic Park's Got Talent
DESCRIPTION:
URL:https://vicparkps.wa.edu.au/calendar/vic-parks-got-talent-2/
CATEGORIES:Activities & Events
END:VEVENT
BEGIN:VEVENT
DTSTART;VALUE=DATE:20251022
DTEND;VALUE=DATE:20251023
DTSTAMP:20260423T154825
CREATED:20250724T030107Z
LAST-MODIFIED:20250724T030107Z
UID:3795-1761091200-1761177599@vicparkps.wa.edu.au
SUMMARY:Year 5/6 Dance
DESCRIPTION:
URL:https://vicparkps.wa.edu.au/calendar/year-5-6-dance/
CATEGORIES:Activities & Events
END:VEVENT
BEGIN:VEVENT
DTSTART;VALUE=DATE:20251021
DTEND;VALUE=DATE:20251022
DTSTAMP:20260423T154825
CREATED:20251016T035604Z
LAST-MODIFIED:20251016T035604Z
UID:3939-1761004800-1761091199@vicparkps.wa.edu.au
SUMMARY:Newsletter
DESCRIPTION:
URL:https://vicparkps.wa.edu.au/calendar/newsletter-20/
CATEGORIES:Activities & Events
END:VEVENT
BEGIN:VEVENT
DTSTART;VALUE=DATE:20251021
DTEND;VALUE=DATE:20251022
DTSTAMP:20260423T154825
CREATED:20251014T023716Z
LAST-MODIFIED:20251014T023716Z
UID:3880-1761004800-1761091199@vicparkps.wa.edu.au
SUMMARY:Vic Park's Got Talent
DESCRIPTION:
URL:https://vicparkps.wa.edu.au/calendar/vic-parks-got-talent/
CATEGORIES:Activities & Events
END:VEVENT
BEGIN:VEVENT
DTSTART;VALUE=DATE:20251020
DTEND;VALUE=DATE:20251021
DTSTAMP:20260423T154825
CREATED:20251014T023650Z
LAST-MODIFIED:20251014T023650Z
UID:3878-1760918400-1761004799@vicparkps.wa.edu.au
SUMMARY:Yr6 Excursion - Parliament House
DESCRIPTION:
URL:https://vicparkps.wa.edu.au/calendar/yr6-excursion-parliament-house/
END:VEVENT
BEGIN:VEVENT
DTSTART;TZID=Australia/Perth:20251017T085000
DTEND;TZID=Australia/Perth:20251017T093000
DTSTAMP:20260423T154825
CREATED:20250724T025109Z
LAST-MODIFIED:20250724T025109Z
UID:3793-1760691000-1760693400@vicparkps.wa.edu.au
SUMMARY:Assembly - Room 15
DESCRIPTION:Aussie of the Month
URL:https://vicparkps.wa.edu.au/calendar/assembly-room-15-2/
CATEGORIES:Activities & Events
END:VEVENT
BEGIN:VEVENT
DTSTART;VALUE=DATE:20251016
DTEND;VALUE=DATE:20251017
DTSTAMP:20260423T154825
CREATED:20251014T023610Z
LAST-MODIFIED:20251014T023610Z
UID:3876-1760572800-1760659199@vicparkps.wa.edu.au
SUMMARY:Libby and the Orchestra Incursion
DESCRIPTION:
URL:https://vicparkps.wa.edu.au/calendar/libby-and-the-orchestra-incursion/
CATEGORIES:Activities & Events
END:VEVENT
BEGIN:VEVENT
DTSTART;VALUE=DATE:20251015
DTEND;VALUE=DATE:20251016
DTSTAMP:20260423T154825
CREATED:20251110T055028Z
LAST-MODIFIED:20251110T055028Z
UID:4189-1760486400-1760572799@vicparkps.wa.edu.au
SUMMARY:Run Club
DESCRIPTION:
URL:https://vicparkps.wa.edu.au/calendar/run-club-43/
CATEGORIES:Activities & Events
END:VEVENT
END:VCALENDAR