BEGIN:VCALENDAR
VERSION:2.0
PRODID:-//Victoria Park Primary School - ECPv6.15.16.1//NONSGML v1.0//EN
CALSCALE:GREGORIAN
METHOD:PUBLISH
X-WR-CALNAME:Victoria Park Primary School
X-ORIGINAL-URL:https://vicparkps.wa.edu.au
X-WR-CALDESC:Events for Victoria Park Primary School
REFRESH-INTERVAL;VALUE=DURATION:PT1H
X-Robots-Tag:noindex
X-PUBLISHED-TTL:PT1H
BEGIN:VTIMEZONE
TZID:Australia/Perth
BEGIN:STANDARD
TZOFFSETFROM:+0800
TZOFFSETTO:+0800
TZNAME:AWST
DTSTART:20230101T000000
END:STANDARD
END:VTIMEZONE
BEGIN:VTIMEZONE
TZID:UTC
BEGIN:STANDARD
TZOFFSETFROM:+0000
TZOFFSETTO:+0000
TZNAME:UTC
DTSTART:20190101T000000
END:STANDARD
END:VTIMEZONE
BEGIN:VEVENT
DTSTART;VALUE=DATE:20240213
DTEND;VALUE=DATE:20240214
DTSTAMP:20260425T195232
CREATED:20240220T064733Z
LAST-MODIFIED:20240220T064733Z
UID:2741-1707782400-1707868799@vicparkps.wa.edu.au
SUMMARY:Newsletter
DESCRIPTION:
URL:https://vicparkps.wa.edu.au/calendar/newsletter/
CATEGORIES:Other
END:VEVENT
BEGIN:VEVENT
DTSTART;TZID=Australia/Perth:20240212T190000
DTEND;TZID=Australia/Perth:20240212T190000
DTSTAMP:20260425T195232
CREATED:20240220T064622Z
LAST-MODIFIED:20240220T064622Z
UID:2739-1707764400-1707764400@vicparkps.wa.edu.au
SUMMARY:P&C Meeting
DESCRIPTION:
URL:https://vicparkps.wa.edu.au/calendar/pc-meeting/
CATEGORIES:P&C and School Board
END:VEVENT
BEGIN:VEVENT
DTSTART;TZID=Australia/Perth:20240209T085000
DTEND;TZID=Australia/Perth:20240209T093000
DTSTAMP:20260425T195232
CREATED:20240220T064031Z
LAST-MODIFIED:20240220T064031Z
UID:2734-1707468600-1707471000@vicparkps.wa.edu.au
SUMMARY:Assembly
DESCRIPTION:
URL:https://vicparkps.wa.edu.au/calendar/assembly/
CATEGORIES:Activities & Events
END:VEVENT
BEGIN:VEVENT
DTSTART;VALUE=DATE:20240131
DTEND;VALUE=DATE:20240201
DTSTAMP:20260425T195232
CREATED:20240116T093602Z
LAST-MODIFIED:20240125T004710Z
UID:2575-1706659200-1706745599@vicparkps.wa.edu.au
SUMMARY:Start of Term 1 2024
DESCRIPTION:
URL:https://vicparkps.wa.edu.au/calendar/term-1-2024/
CATEGORIES:Term Dates & Public Holidays
END:VEVENT
BEGIN:VEVENT
DTSTART;TZID=UTC:20200725T080000
DTEND;TZID=UTC:20200725T170000
DTSTAMP:20260425T195232
CREATED:20200724T045335Z
LAST-MODIFIED:20200724T050609Z
UID:486-1595664000-1595696400@vicparkps.wa.edu.au
SUMMARY:Test Event
DESCRIPTION:This is a test event for the Victoria Park PS calendar
URL:https://vicparkps.wa.edu.au/calendar/test-event/
END:VEVENT
END:VCALENDAR