BEGIN:VCALENDAR
VERSION:2.0
PRODID:-//Victoria Park Primary School - ECPv6.15.16.1//NONSGML v1.0//EN
CALSCALE:GREGORIAN
METHOD:PUBLISH
X-WR-CALNAME:Victoria Park Primary School
X-ORIGINAL-URL:https://vicparkps.wa.edu.au
X-WR-CALDESC:Events for Victoria Park Primary School
REFRESH-INTERVAL;VALUE=DURATION:PT1H
X-Robots-Tag:noindex
X-PUBLISHED-TTL:PT1H
BEGIN:VTIMEZONE
TZID:Australia/Perth
BEGIN:STANDARD
TZOFFSETFROM:+0800
TZOFFSETTO:+0800
TZNAME:AWST
DTSTART:20230101T000000
END:STANDARD
END:VTIMEZONE
BEGIN:VTIMEZONE
TZID:UTC
BEGIN:STANDARD
TZOFFSETFROM:+0000
TZOFFSETTO:+0000
TZNAME:UTC
DTSTART:20190101T000000
END:STANDARD
END:VTIMEZONE
BEGIN:VEVENT
DTSTART;TZID=Australia/Perth:20240229T073000
DTEND;TZID=Australia/Perth:20240229T084500
DTSTAMP:20260425T235432
CREATED:20240220T065422Z
LAST-MODIFIED:20240220T065422Z
UID:2757-1709191800-1709196300@vicparkps.wa.edu.au
SUMMARY:School Board Meeting
DESCRIPTION:
URL:https://vicparkps.wa.edu.au/calendar/school-board-meeting/
CATEGORIES:P&C and School Board
END:VEVENT
BEGIN:VEVENT
DTSTART;TZID=Australia/Perth:20240228T070000
DTEND;TZID=Australia/Perth:20240228T080000
DTSTAMP:20260425T235432
CREATED:20240220T065339Z
LAST-MODIFIED:20240220T065339Z
UID:2755-1709103600-1709107200@vicparkps.wa.edu.au
SUMMARY:Swim Squad
DESCRIPTION:
URL:https://vicparkps.wa.edu.au/calendar/swim-squad-2/
CATEGORIES:Activities & Events
END:VEVENT
BEGIN:VEVENT
DTSTART;VALUE=DATE:20240227
DTEND;VALUE=DATE:20240228
DTSTAMP:20260425T235432
CREATED:20240220T065259Z
LAST-MODIFIED:20240220T065259Z
UID:2752-1708992000-1709078399@vicparkps.wa.edu.au
SUMMARY:Newsletter
DESCRIPTION:
URL:https://vicparkps.wa.edu.au/calendar/newsletter-2/
CATEGORIES:Other
END:VEVENT
BEGIN:VEVENT
DTSTART;TZID=Australia/Perth:20240223T085000
DTEND;TZID=Australia/Perth:20240223T093000
DTSTAMP:20260425T235432
CREATED:20240220T064143Z
LAST-MODIFIED:20240220T064207Z
UID:2736-1708678200-1708680600@vicparkps.wa.edu.au
SUMMARY:Assembly
DESCRIPTION:
URL:https://vicparkps.wa.edu.au/calendar/assembly-2/
CATEGORIES:Activities & Events
END:VEVENT
BEGIN:VEVENT
DTSTART;TZID=Australia/Perth:20240221T070000
DTEND;TZID=Australia/Perth:20240221T080000
DTSTAMP:20260425T235432
CREATED:20240220T063436Z
LAST-MODIFIED:20240220T064714Z
UID:2732-1708498800-1708502400@vicparkps.wa.edu.au
SUMMARY:Swim Squad
DESCRIPTION:
URL:https://vicparkps.wa.edu.au/calendar/swim-squad-7am/
CATEGORIES:Activities & Events
END:VEVENT
BEGIN:VEVENT
DTSTART;TZID=Australia/Perth:20240215T084500
DTEND;TZID=Australia/Perth:20240215T093000
DTSTAMP:20260425T235432
CREATED:20240220T064855Z
LAST-MODIFIED:20240220T065050Z
UID:2749-1707986700-1707989400@vicparkps.wa.edu.au
SUMMARY:Thursday Tea & Talk
DESCRIPTION:
URL:https://vicparkps.wa.edu.au/calendar/thursday-tea-talk/
CATEGORIES:Activities & Events
END:VEVENT
BEGIN:VEVENT
DTSTART;TZID=Australia/Perth:20240214T070000
DTEND;TZID=Australia/Perth:20240214T080000
DTSTAMP:20260425T235432
CREATED:20240220T064653Z
LAST-MODIFIED:20240220T064653Z
UID:2740-1707894000-1707897600@vicparkps.wa.edu.au
SUMMARY:Swim Squad
DESCRIPTION:
URL:https://vicparkps.wa.edu.au/calendar/swim-squad/
CATEGORIES:Activities & Events
END:VEVENT
BEGIN:VEVENT
DTSTART;VALUE=DATE:20240213
DTEND;VALUE=DATE:20240214
DTSTAMP:20260425T235432
CREATED:20240220T064733Z
LAST-MODIFIED:20240220T064733Z
UID:2741-1707782400-1707868799@vicparkps.wa.edu.au
SUMMARY:Newsletter
DESCRIPTION:
URL:https://vicparkps.wa.edu.au/calendar/newsletter/
CATEGORIES:Other
END:VEVENT
BEGIN:VEVENT
DTSTART;TZID=Australia/Perth:20240212T190000
DTEND;TZID=Australia/Perth:20240212T190000
DTSTAMP:20260425T235432
CREATED:20240220T064622Z
LAST-MODIFIED:20240220T064622Z
UID:2739-1707764400-1707764400@vicparkps.wa.edu.au
SUMMARY:P&C Meeting
DESCRIPTION:
URL:https://vicparkps.wa.edu.au/calendar/pc-meeting/
CATEGORIES:P&C and School Board
END:VEVENT
BEGIN:VEVENT
DTSTART;TZID=Australia/Perth:20240209T085000
DTEND;TZID=Australia/Perth:20240209T093000
DTSTAMP:20260425T235432
CREATED:20240220T064031Z
LAST-MODIFIED:20240220T064031Z
UID:2734-1707468600-1707471000@vicparkps.wa.edu.au
SUMMARY:Assembly
DESCRIPTION:
URL:https://vicparkps.wa.edu.au/calendar/assembly/
CATEGORIES:Activities & Events
END:VEVENT
BEGIN:VEVENT
DTSTART;VALUE=DATE:20240131
DTEND;VALUE=DATE:20240201
DTSTAMP:20260425T235432
CREATED:20240116T093602Z
LAST-MODIFIED:20240125T004710Z
UID:2575-1706659200-1706745599@vicparkps.wa.edu.au
SUMMARY:Start of Term 1 2024
DESCRIPTION:
URL:https://vicparkps.wa.edu.au/calendar/term-1-2024/
CATEGORIES:Term Dates & Public Holidays
END:VEVENT
BEGIN:VEVENT
DTSTART;TZID=UTC:20200725T080000
DTEND;TZID=UTC:20200725T170000
DTSTAMP:20260425T235432
CREATED:20200724T045335Z
LAST-MODIFIED:20200724T050609Z
UID:486-1595664000-1595696400@vicparkps.wa.edu.au
SUMMARY:Test Event
DESCRIPTION:This is a test event for the Victoria Park PS calendar
URL:https://vicparkps.wa.edu.au/calendar/test-event/
END:VEVENT
END:VCALENDAR