BEGIN:VCALENDAR
VERSION:2.0
PRODID:-//Victoria Park Primary School - ECPv6.15.16.1//NONSGML v1.0//EN
CALSCALE:GREGORIAN
METHOD:PUBLISH
X-WR-CALNAME:Victoria Park Primary School
X-ORIGINAL-URL:https://vicparkps.wa.edu.au
X-WR-CALDESC:Events for Victoria Park Primary School
REFRESH-INTERVAL;VALUE=DURATION:PT1H
X-Robots-Tag:noindex
X-PUBLISHED-TTL:PT1H
BEGIN:VTIMEZONE
TZID:Australia/Perth
BEGIN:STANDARD
TZOFFSETFROM:+0800
TZOFFSETTO:+0800
TZNAME:AWST
DTSTART:20240101T000000
END:STANDARD
END:VTIMEZONE
BEGIN:VEVENT
DTSTART;VALUE=DATE:20250925
DTEND;VALUE=DATE:20250926
DTSTAMP:20260423T171643
CREATED:20250724T024509Z
LAST-MODIFIED:20250724T024509Z
UID:3779-1758758400-1758844799@vicparkps.wa.edu.au
SUMMARY:K - Yr6 St John Ambulance Incursion
DESCRIPTION:
URL:https://vicparkps.wa.edu.au/calendar/k-yr6-st-john-ambulance-incursion-4/
CATEGORIES:Activities & Events
END:VEVENT
BEGIN:VEVENT
DTSTART;VALUE=DATE:20250924
DTEND;VALUE=DATE:20250925
DTSTAMP:20260423T171643
CREATED:20250724T024602Z
LAST-MODIFIED:20250724T024602Z
UID:3783-1758672000-1758758399@vicparkps.wa.edu.au
SUMMARY:MCF Rehearsal & Concert @ HPC Claremont
DESCRIPTION:
URL:https://vicparkps.wa.edu.au/calendar/mcf-rehearsal-concert-hpc-claremont/
CATEGORIES:Activities & Events
END:VEVENT
BEGIN:VEVENT
DTSTART;VALUE=DATE:20250924
DTEND;VALUE=DATE:20250925
DTSTAMP:20260423T171643
CREATED:20250724T024433Z
LAST-MODIFIED:20250724T024433Z
UID:3777-1758672000-1758758399@vicparkps.wa.edu.au
SUMMARY:K - Yr6 St John Ambulance Incursion
DESCRIPTION:
URL:https://vicparkps.wa.edu.au/calendar/k-yr6-st-john-ambulance-incursion-3/
CATEGORIES:Activities & Events
END:VEVENT
BEGIN:VEVENT
DTSTART;VALUE=DATE:20250923
DTEND;VALUE=DATE:20250924
DTSTAMP:20260423T171643
CREATED:20250724T024737Z
LAST-MODIFIED:20250724T024737Z
UID:3787-1758585600-1758671999@vicparkps.wa.edu.au
SUMMARY:MCF Rehearsal @ HPC Claremont
DESCRIPTION:
URL:https://vicparkps.wa.edu.au/calendar/mcf-rehearsal-hpc-claremont/
CATEGORIES:Activities & Events
END:VEVENT
BEGIN:VEVENT
DTSTART;VALUE=DATE:20250923
DTEND;VALUE=DATE:20250924
DTSTAMP:20260423T171643
CREATED:20250724T024313Z
LAST-MODIFIED:20250724T024313Z
UID:3775-1758585600-1758671999@vicparkps.wa.edu.au
SUMMARY:K - Yr6 St John Ambulance Incursion
DESCRIPTION:
URL:https://vicparkps.wa.edu.au/calendar/k-yr6-st-john-ambulance-incursion-2/
CATEGORIES:Activities & Events
END:VEVENT
BEGIN:VEVENT
DTSTART;VALUE=DATE:20250922
DTEND;VALUE=DATE:20250923
DTSTAMP:20260423T171643
CREATED:20250724T024225Z
LAST-MODIFIED:20250724T024225Z
UID:3773-1758499200-1758585599@vicparkps.wa.edu.au
SUMMARY:K - Yr6 St John Ambulance Incursion
DESCRIPTION:
URL:https://vicparkps.wa.edu.au/calendar/k-yr6-st-john-ambulance-incursion/
CATEGORIES:Activities & Events
END:VEVENT
BEGIN:VEVENT
DTSTART;VALUE=DATE:20250919
DTEND;VALUE=DATE:20250920
DTSTAMP:20260423T171643
CREATED:20250724T024133Z
LAST-MODIFIED:20250724T024133Z
UID:3771-1758240000-1758326399@vicparkps.wa.edu.au
SUMMARY:Assembly - Room 16
DESCRIPTION:Writer & Artist of the Term\nAussie of the Month
URL:https://vicparkps.wa.edu.au/calendar/assembly-room-16-2/
CATEGORIES:Activities & Events
END:VEVENT
BEGIN:VEVENT
DTSTART;VALUE=DATE:20250918
DTEND;VALUE=DATE:20250919
DTSTAMP:20260423T171643
CREATED:20250724T024045Z
LAST-MODIFIED:20250724T024045Z
UID:3769-1758153600-1758239999@vicparkps.wa.edu.au
SUMMARY:Interschool Athletics Carnival
DESCRIPTION:
URL:https://vicparkps.wa.edu.au/calendar/interschool-athletics-carnival/
CATEGORIES:Activities & Events
END:VEVENT
BEGIN:VEVENT
DTSTART;VALUE=DATE:20250917
DTEND;VALUE=DATE:20250918
DTSTAMP:20260423T171643
CREATED:20250724T024004Z
LAST-MODIFIED:20250724T024004Z
UID:3767-1758067200-1758153599@vicparkps.wa.edu.au
SUMMARY:Cyber Safety Talk - Students & Parents
DESCRIPTION:
URL:https://vicparkps.wa.edu.au/calendar/cyber-safety-talk-students-parents/
CATEGORIES:Activities & Events
END:VEVENT
BEGIN:VEVENT
DTSTART;VALUE=DATE:20250916
DTEND;VALUE=DATE:20250917
DTSTAMP:20260423T171643
CREATED:20250724T023853Z
LAST-MODIFIED:20250724T023853Z
UID:3765-1757980800-1758067199@vicparkps.wa.edu.au
SUMMARY:Interschool Jumps & Throws
DESCRIPTION:
URL:https://vicparkps.wa.edu.au/calendar/interschool-jumps-throws/
CATEGORIES:Activities & Events
END:VEVENT
BEGIN:VEVENT
DTSTART;TZID=Australia/Perth:20250911T073000
DTEND;TZID=Australia/Perth:20250911T083000
DTSTAMP:20260423T171643
CREATED:20250724T023609Z
LAST-MODIFIED:20250724T023609Z
UID:3763-1757575800-1757579400@vicparkps.wa.edu.au
SUMMARY:School Board Meeting
DESCRIPTION:
URL:https://vicparkps.wa.edu.au/calendar/school-board-meeting-10/
CATEGORIES:P&C and School Board
END:VEVENT
BEGIN:VEVENT
DTSTART;VALUE=DATE:20250910
DTEND;VALUE=DATE:20250911
DTSTAMP:20260423T171643
CREATED:20250724T023523Z
LAST-MODIFIED:20250724T023523Z
UID:3761-1757462400-1757548799@vicparkps.wa.edu.au
SUMMARY:Intergenerational Music Experience
DESCRIPTION:
URL:https://vicparkps.wa.edu.au/calendar/intergenerational-music-experience-10/
CATEGORIES:Activities & Events
END:VEVENT
BEGIN:VEVENT
DTSTART;VALUE=DATE:20250909
DTEND;VALUE=DATE:20250910
DTSTAMP:20260423T171643
CREATED:20250724T023432Z
LAST-MODIFIED:20250724T023432Z
UID:3759-1757376000-1757462399@vicparkps.wa.edu.au
SUMMARY:1/2 Day Closure - Parent/Teacher Interviews
DESCRIPTION:
URL:https://vicparkps.wa.edu.au/calendar/1-2-day-closure-parent-teacher-interviews/
CATEGORIES:Activities & Events
END:VEVENT
BEGIN:VEVENT
DTSTART;TZID=Australia/Perth:20250905T085000
DTEND;TZID=Australia/Perth:20250905T093000
DTSTAMP:20260423T171643
CREATED:20250724T023350Z
LAST-MODIFIED:20250724T023350Z
UID:3757-1757062200-1757064600@vicparkps.wa.edu.au
SUMMARY:Assembly - Room 4
DESCRIPTION:
URL:https://vicparkps.wa.edu.au/calendar/assembly-room-4-2/
CATEGORIES:Activities & Events
END:VEVENT
BEGIN:VEVENT
DTSTART;VALUE=DATE:20250905
DTEND;VALUE=DATE:20250906
DTSTAMP:20260423T171643
CREATED:20250724T023310Z
LAST-MODIFIED:20250724T023310Z
UID:3755-1757030400-1757116799@vicparkps.wa.edu.au
SUMMARY:ECE Father's Day Breakfast
DESCRIPTION:
URL:https://vicparkps.wa.edu.au/calendar/ece-fathers-day-breakfast/
CATEGORIES:Activities & Events
END:VEVENT
BEGIN:VEVENT
DTSTART;VALUE=DATE:20250904
DTEND;VALUE=DATE:20250905
DTSTAMP:20260423T171643
CREATED:20250730T041304Z
LAST-MODIFIED:20250730T041304Z
UID:3858-1756944000-1757030399@vicparkps.wa.edu.au
SUMMARY:Yr1 Caversham Wildlife Excursion
DESCRIPTION:
URL:https://vicparkps.wa.edu.au/calendar/yr1-caversham-wildlife-excursion/
CATEGORIES:Activities & Events
END:VEVENT
BEGIN:VEVENT
DTSTART;VALUE=DATE:20250829
DTEND;VALUE=DATE:20250830
DTSTAMP:20260423T171643
CREATED:20250724T023223Z
LAST-MODIFIED:20250724T023223Z
UID:3753-1756425600-1756511999@vicparkps.wa.edu.au
SUMMARY:Faction Carnival
DESCRIPTION:
URL:https://vicparkps.wa.edu.au/calendar/faction-carnival-2/
CATEGORIES:Activities & Events
END:VEVENT
BEGIN:VEVENT
DTSTART;VALUE=DATE:20250828
DTEND;VALUE=DATE:20250829
DTSTAMP:20260423T171643
CREATED:20250724T023142Z
LAST-MODIFIED:20250724T023142Z
UID:3751-1756339200-1756425599@vicparkps.wa.edu.au
SUMMARY:MCF Rehearsal - Churchlands SHS
DESCRIPTION:
URL:https://vicparkps.wa.edu.au/calendar/mcf-rehearsal-churchlands-shs/
CATEGORIES:Activities & Events
END:VEVENT
BEGIN:VEVENT
DTSTART;VALUE=DATE:20250826
DTEND;VALUE=DATE:20250827
DTSTAMP:20260423T171643
CREATED:20250724T023031Z
LAST-MODIFIED:20250724T023031Z
UID:3749-1756166400-1756252799@vicparkps.wa.edu.au
SUMMARY:Jumps & Throws
DESCRIPTION:
URL:https://vicparkps.wa.edu.au/calendar/jumps-throws/
CATEGORIES:Activities & Events
END:VEVENT
BEGIN:VEVENT
DTSTART;VALUE=DATE:20250825
DTEND;VALUE=DATE:20250826
DTSTAMP:20260423T171643
CREATED:20250724T022952Z
LAST-MODIFIED:20250724T022952Z
UID:3747-1756080000-1756166399@vicparkps.wa.edu.au
SUMMARY:ICAS - Mathematics
DESCRIPTION:
URL:https://vicparkps.wa.edu.au/calendar/icas-mathematics/
CATEGORIES:Activities & Events
END:VEVENT
BEGIN:VEVENT
DTSTART;VALUE=DATE:20250822
DTEND;VALUE=DATE:20250823
DTSTAMP:20260423T171643
CREATED:20250724T022917Z
LAST-MODIFIED:20250724T022917Z
UID:3745-1755820800-1755907199@vicparkps.wa.edu.au
SUMMARY:Assembly - Room 14
DESCRIPTION:Aussie of the Month
URL:https://vicparkps.wa.edu.au/calendar/assembly-room-14-2/
CATEGORIES:Activities & Events
END:VEVENT
BEGIN:VEVENT
DTSTART;TZID=Australia/Perth:20250821T090000
DTEND;TZID=Australia/Perth:20250821T100000
DTSTAMP:20260423T171643
CREATED:20250725T042807Z
LAST-MODIFIED:20250725T042807Z
UID:3853-1755766800-1755770400@vicparkps.wa.edu.au
SUMMARY:Book Week Parade
DESCRIPTION:
URL:https://vicparkps.wa.edu.au/calendar/book-week-parade-2/
CATEGORIES:Activities & Events
END:VEVENT
BEGIN:VEVENT
DTSTART;VALUE=DATE:20250820
DTEND;VALUE=DATE:20250821
DTSTAMP:20260423T171643
CREATED:20250724T022834Z
LAST-MODIFIED:20250724T022834Z
UID:3743-1755648000-1755734399@vicparkps.wa.edu.au
SUMMARY:Room 6 Vic Park Library Excursion
DESCRIPTION:
URL:https://vicparkps.wa.edu.au/calendar/room-6-vic-park-library-excursion/
CATEGORIES:Activities & Events
END:VEVENT
BEGIN:VEVENT
DTSTART;VALUE=DATE:20250819
DTEND;VALUE=DATE:20250820
DTSTAMP:20260423T171643
CREATED:20250724T022756Z
LAST-MODIFIED:20250724T022756Z
UID:3741-1755561600-1755647999@vicparkps.wa.edu.au
SUMMARY:ICAS - Science
DESCRIPTION:
URL:https://vicparkps.wa.edu.au/calendar/icas-science-2/
CATEGORIES:Activities & Events
END:VEVENT
BEGIN:VEVENT
DTSTART;VALUE=DATE:20250818
DTEND;VALUE=DATE:20250823
DTSTAMP:20260423T171643
CREATED:20250730T035554Z
LAST-MODIFIED:20250730T035554Z
UID:3856-1755475200-1755907199@vicparkps.wa.edu.au
SUMMARY:Book Week
DESCRIPTION:
URL:https://vicparkps.wa.edu.au/calendar/book-week-2/
CATEGORIES:Activities & Events
END:VEVENT
BEGIN:VEVENT
DTSTART;VALUE=DATE:20250818
DTEND;VALUE=DATE:20250819
DTSTAMP:20260423T171643
CREATED:20250724T022704Z
LAST-MODIFIED:20250724T023106Z
UID:3738-1755475200-1755561599@vicparkps.wa.edu.au
SUMMARY:Yr6 STEM Excursion
DESCRIPTION:
URL:https://vicparkps.wa.edu.au/calendar/yr6-stem-excursion/
CATEGORIES:Activities & Events
END:VEVENT
BEGIN:VEVENT
DTSTART;VALUE=DATE:20250815
DTEND;VALUE=DATE:20250816
DTSTAMP:20260423T171643
CREATED:20250724T022626Z
LAST-MODIFIED:20250724T022626Z
UID:3736-1755216000-1755302399@vicparkps.wa.edu.au
SUMMARY:Yr2 Museum Excursion
DESCRIPTION:
URL:https://vicparkps.wa.edu.au/calendar/yr2-museum-excursion/
CATEGORIES:Activities & Events
END:VEVENT
BEGIN:VEVENT
DTSTART;VALUE=DATE:20250812
DTEND;VALUE=DATE:20250813
DTSTAMP:20260423T171643
CREATED:20250724T022558Z
LAST-MODIFIED:20250724T022558Z
UID:3734-1754956800-1755043199@vicparkps.wa.edu.au
SUMMARY:ICAS - English
DESCRIPTION:
URL:https://vicparkps.wa.edu.au/calendar/icas-english-2/
CATEGORIES:Activities & Events
END:VEVENT
BEGIN:VEVENT
DTSTART;VALUE=DATE:20250811
DTEND;VALUE=DATE:20250812
DTSTAMP:20260423T171643
CREATED:20250724T022416Z
LAST-MODIFIED:20250724T022416Z
UID:3732-1754870400-1754956799@vicparkps.wa.edu.au
SUMMARY:Intergenerational Music Experience
DESCRIPTION:
URL:https://vicparkps.wa.edu.au/calendar/intergenerational-music-experience-9/
CATEGORIES:Activities & Events
END:VEVENT
BEGIN:VEVENT
DTSTART;TZID=Australia/Perth:20250808T170000
DTEND;TZID=Australia/Perth:20250808T200000
DTSTAMP:20260423T171643
CREATED:20250724T022349Z
LAST-MODIFIED:20250724T022512Z
UID:3729-1754672400-1754683200@vicparkps.wa.edu.au
SUMMARY:P&C Scitech Night
DESCRIPTION:
URL:https://vicparkps.wa.edu.au/calendar/pc-scitech-night/
CATEGORIES:P&C and School Board
END:VEVENT
END:VCALENDAR