BEGIN:VCALENDAR
VERSION:2.0
PRODID:-//Victoria Park Primary School - ECPv6.15.16.1//NONSGML v1.0//EN
CALSCALE:GREGORIAN
METHOD:PUBLISH
X-WR-CALNAME:Victoria Park Primary School
X-ORIGINAL-URL:https://vicparkps.wa.edu.au
X-WR-CALDESC:Events for Victoria Park Primary School
REFRESH-INTERVAL;VALUE=DURATION:PT1H
X-Robots-Tag:noindex
X-PUBLISHED-TTL:PT1H
BEGIN:VTIMEZONE
TZID:Australia/Perth
BEGIN:STANDARD
TZOFFSETFROM:+0800
TZOFFSETTO:+0800
TZNAME:AWST
DTSTART:20240101T000000
END:STANDARD
END:VTIMEZONE
BEGIN:VEVENT
DTSTART;VALUE=DATE:20251220
DTEND;VALUE=DATE:20260202
DTSTAMP:20260423T031701
CREATED:20250724T034831Z
LAST-MODIFIED:20250724T034831Z
UID:3846-1766188800-1769990399@vicparkps.wa.edu.au
SUMMARY:School Holidays
DESCRIPTION:
URL:https://vicparkps.wa.edu.au/calendar/school-holidays-6/
CATEGORIES:Term Dates & Public Holidays
END:VEVENT
BEGIN:VEVENT
DTSTART;VALUE=DATE:20260202
DTEND;VALUE=DATE:20260203
DTSTAMP:20260423T031701
CREATED:20251104T020926Z
LAST-MODIFIED:20251104T020926Z
UID:3957-1769990400-1770076799@vicparkps.wa.edu.au
SUMMARY:First Day of Term 1
DESCRIPTION:
URL:https://vicparkps.wa.edu.au/calendar/first-day-of-term-1/
CATEGORIES:Term Dates & Public Holidays
END:VEVENT
BEGIN:VEVENT
DTSTART;VALUE=DATE:20260210
DTEND;VALUE=DATE:20260211
DTSTAMP:20260423T031701
CREATED:20251104T021059Z
LAST-MODIFIED:20251104T021059Z
UID:3959-1770681600-1770767999@vicparkps.wa.edu.au
SUMMARY:Newsletter
DESCRIPTION:
URL:https://vicparkps.wa.edu.au/calendar/newsletter-26/
CATEGORIES:Other
END:VEVENT
BEGIN:VEVENT
DTSTART;TZID=Australia/Perth:20260212T152000
DTEND;TZID=Australia/Perth:20260212T162000
DTSTAMP:20260423T031701
CREATED:20251217T060112Z
LAST-MODIFIED:20251217T060112Z
UID:4281-1770909600-1770913200@vicparkps.wa.edu.au
SUMMARY:Afterschool Soccer Program
DESCRIPTION:
URL:https://vicparkps.wa.edu.au/calendar/afterschool-soccer-program/
CATEGORIES:Activities & Events
END:VEVENT
BEGIN:VEVENT
DTSTART;TZID=Australia/Perth:20260218T070000
DTEND;TZID=Australia/Perth:20260218T080000
DTSTAMP:20260423T031701
CREATED:20251104T021248Z
LAST-MODIFIED:20251217T055809Z
UID:3967-1771398000-1771401600@vicparkps.wa.edu.au
SUMMARY:Swim Squad
DESCRIPTION:
URL:https://vicparkps.wa.edu.au/calendar/swim-squad-4/
CATEGORIES:Activities & Events
END:VEVENT
BEGIN:VEVENT
DTSTART;TZID=Australia/Perth:20260219T073000
DTEND;TZID=Australia/Perth:20260219T083000
DTSTAMP:20260423T031701
CREATED:20251104T022130Z
LAST-MODIFIED:20251104T022130Z
UID:3977-1771486200-1771489800@vicparkps.wa.edu.au
SUMMARY:School Board Meeting
DESCRIPTION:
URL:https://vicparkps.wa.edu.au/calendar/school-board-meeting-13/
CATEGORIES:P&C and School Board
END:VEVENT
BEGIN:VEVENT
DTSTART;TZID=Australia/Perth:20260219T152000
DTEND;TZID=Australia/Perth:20260219T162000
DTSTAMP:20260423T031701
CREATED:20251217T060533Z
LAST-MODIFIED:20251217T060533Z
UID:4283-1771514400-1771518000@vicparkps.wa.edu.au
SUMMARY:Afterschool Soccer Program
DESCRIPTION:
URL:https://vicparkps.wa.edu.au/calendar/afterschool-soccer-program-2/
CATEGORIES:Activities & Events
END:VEVENT
BEGIN:VEVENT
DTSTART;VALUE=DATE:20260224
DTEND;VALUE=DATE:20260225
DTSTAMP:20260423T031701
CREATED:20251104T021109Z
LAST-MODIFIED:20251104T021109Z
UID:3960-1771891200-1771977599@vicparkps.wa.edu.au
SUMMARY:Newsletter
DESCRIPTION:
URL:https://vicparkps.wa.edu.au/calendar/newsletter-27/
CATEGORIES:Other
END:VEVENT
BEGIN:VEVENT
DTSTART;TZID=Australia/Perth:20260225T070000
DTEND;TZID=Australia/Perth:20260225T080000
DTSTAMP:20260423T031701
CREATED:20251104T021357Z
LAST-MODIFIED:20251217T055822Z
UID:3969-1772002800-1772006400@vicparkps.wa.edu.au
SUMMARY:Swim Squad
DESCRIPTION:
URL:https://vicparkps.wa.edu.au/calendar/swim-squad-5/
CATEGORIES:Activities & Events
END:VEVENT
BEGIN:VEVENT
DTSTART;VALUE=DATE:20260226
DTEND;VALUE=DATE:20260227
DTSTAMP:20260423T031701
CREATED:20251110T053153Z
LAST-MODIFIED:20251110T053153Z
UID:4134-1772064000-1772150399@vicparkps.wa.edu.au
SUMMARY:Run Club
DESCRIPTION:
URL:https://vicparkps.wa.edu.au/calendar/run-club-15/
CATEGORIES:Activities & Events
END:VEVENT
BEGIN:VEVENT
DTSTART;TZID=Australia/Perth:20260226T152000
DTEND;TZID=Australia/Perth:20260226T162000
DTSTAMP:20260423T031701
CREATED:20251217T060607Z
LAST-MODIFIED:20251217T060607Z
UID:4285-1772119200-1772122800@vicparkps.wa.edu.au
SUMMARY:Afterschool Soccer Program
DESCRIPTION:
URL:https://vicparkps.wa.edu.au/calendar/afterschool-soccer-program-3/
CATEGORIES:Activities & Events
END:VEVENT
END:VCALENDAR