BEGIN:VCALENDAR
VERSION:2.0
PRODID:-//Victoria Park Primary School - ECPv6.15.16.1//NONSGML v1.0//EN
CALSCALE:GREGORIAN
METHOD:PUBLISH
X-ORIGINAL-URL:https://vicparkps.wa.edu.au
X-WR-CALDESC:Events for Victoria Park Primary School
REFRESH-INTERVAL;VALUE=DURATION:PT1H
X-Robots-Tag:noindex
X-PUBLISHED-TTL:PT1H
BEGIN:VTIMEZONE
TZID:Australia/Perth
BEGIN:STANDARD
TZOFFSETFROM:+0800
TZOFFSETTO:+0800
TZNAME:AWST
DTSTART:20250101T000000
END:STANDARD
END:VTIMEZONE
BEGIN:VEVENT
DTSTART;VALUE=DATE:20260507
DTEND;VALUE=DATE:20260508
DTSTAMP:20260423T013522
CREATED:20251110T053948Z
LAST-MODIFIED:20251110T053948Z
UID:4146-1778112000-1778198399@vicparkps.wa.edu.au
SUMMARY:Run Club
DESCRIPTION:
URL:https://vicparkps.wa.edu.au/calendar/run-club-23/
CATEGORIES:Activities & Events
END:VEVENT
BEGIN:VEVENT
DTSTART;TZID=Australia/Perth:20260507T073000
DTEND;TZID=Australia/Perth:20260507T083000
DTSTAMP:20260423T013522
CREATED:20251104T023825Z
LAST-MODIFIED:20251104T023825Z
UID:4019-1778139000-1778142600@vicparkps.wa.edu.au
SUMMARY:School Board Meeting
DESCRIPTION:
URL:https://vicparkps.wa.edu.au/calendar/school-board-meeting-15/
CATEGORIES:P&C and School Board
END:VEVENT
BEGIN:VEVENT
DTSTART;VALUE=DATE:20260511
DTEND;VALUE=DATE:20260516
DTSTAMP:20260423T013522
CREATED:20251104T031330Z
LAST-MODIFIED:20251104T031330Z
UID:4106-1778457600-1778889599@vicparkps.wa.edu.au
SUMMARY:Kindy Speech Screenings
DESCRIPTION:
URL:https://vicparkps.wa.edu.au/calendar/kindy-speech-screenings/
CATEGORIES:Other
END:VEVENT
BEGIN:VEVENT
DTSTART;VALUE=DATE:20260512
DTEND;VALUE=DATE:20260513
DTSTAMP:20260423T013522
CREATED:20251104T023520Z
LAST-MODIFIED:20251104T023520Z
UID:4014-1778544000-1778630399@vicparkps.wa.edu.au
SUMMARY:Newsletter
DESCRIPTION:
URL:https://vicparkps.wa.edu.au/calendar/newsletter-31/
CATEGORIES:Other
END:VEVENT
BEGIN:VEVENT
DTSTART;VALUE=DATE:20260514
DTEND;VALUE=DATE:20260515
DTSTAMP:20260423T013522
CREATED:20251110T054049Z
LAST-MODIFIED:20251110T054049Z
UID:4149-1778716800-1778803199@vicparkps.wa.edu.au
SUMMARY:Run Club
DESCRIPTION:
URL:https://vicparkps.wa.edu.au/calendar/run-club-24/
CATEGORIES:Activities & Events
END:VEVENT
BEGIN:VEVENT
DTSTART;VALUE=DATE:20260518
DTEND;VALUE=DATE:20260523
DTSTAMP:20260423T013522
CREATED:20251104T031345Z
LAST-MODIFIED:20251104T031345Z
UID:4107-1779062400-1779494399@vicparkps.wa.edu.au
SUMMARY:Kindy Speech Screenings
DESCRIPTION:
URL:https://vicparkps.wa.edu.au/calendar/kindy-speech-screenings-2/
CATEGORIES:Other
END:VEVENT
BEGIN:VEVENT
DTSTART;VALUE=DATE:20260521
DTEND;VALUE=DATE:20260522
DTSTAMP:20260423T013522
CREATED:20251104T023938Z
LAST-MODIFIED:20251104T023938Z
UID:4022-1779321600-1779407999@vicparkps.wa.edu.au
SUMMARY:National Simultaneous Storytime
DESCRIPTION:
URL:https://vicparkps.wa.edu.au/calendar/national-simultaneous-storytime-2/
CATEGORIES:Activities & Events
END:VEVENT
BEGIN:VEVENT
DTSTART;VALUE=DATE:20260521
DTEND;VALUE=DATE:20260522
DTSTAMP:20260423T013522
CREATED:20251110T054107Z
LAST-MODIFIED:20251110T054107Z
UID:4150-1779321600-1779407999@vicparkps.wa.edu.au
SUMMARY:Run Club
DESCRIPTION:
URL:https://vicparkps.wa.edu.au/calendar/run-club-25/
CATEGORIES:Activities & Events
END:VEVENT
BEGIN:VEVENT
DTSTART;VALUE=DATE:20260522
DTEND;VALUE=DATE:20260523
DTSTAMP:20260423T013522
CREATED:20251104T024005Z
LAST-MODIFIED:20251104T031826Z
UID:4023-1779408000-1779494399@vicparkps.wa.edu.au
SUMMARY:School Support Staff Appreciation Day
DESCRIPTION:
URL:https://vicparkps.wa.edu.au/calendar/school-support-staff-appreciation-day/
CATEGORIES:Activities & Events
END:VEVENT
BEGIN:VEVENT
DTSTART;VALUE=DATE:20260526
DTEND;VALUE=DATE:20260527
DTSTAMP:20260423T013522
CREATED:20251104T023540Z
LAST-MODIFIED:20251104T023540Z
UID:4015-1779753600-1779839999@vicparkps.wa.edu.au
SUMMARY:Newsletter
DESCRIPTION:
URL:https://vicparkps.wa.edu.au/calendar/newsletter-32/
CATEGORIES:Other
END:VEVENT
BEGIN:VEVENT
DTSTART;VALUE=DATE:20260526
DTEND;VALUE=DATE:20260530
DTSTAMP:20260423T013522
CREATED:20251205T013203Z
LAST-MODIFIED:20251205T013203Z
UID:4246-1779753600-1780099199@vicparkps.wa.edu.au
SUMMARY:Year 6 Camp
DESCRIPTION:
URL:https://vicparkps.wa.edu.au/calendar/year-6-camp-2/
CATEGORIES:Activities & Events
END:VEVENT
BEGIN:VEVENT
DTSTART;VALUE=DATE:20260528
DTEND;VALUE=DATE:20260529
DTSTAMP:20260423T013522
CREATED:20251110T054116Z
LAST-MODIFIED:20251110T054116Z
UID:4151-1779926400-1780012799@vicparkps.wa.edu.au
SUMMARY:Run Club
DESCRIPTION:
URL:https://vicparkps.wa.edu.au/calendar/run-club-26/
CATEGORIES:Activities & Events
END:VEVENT
END:VCALENDAR